BEGIN:VCALENDAR
VERSION:2.0
PRODID:-//wp-events-plugin.com//7.2.1//EN
TZID:Europe/Berlin
X-WR-TIMEZONE:Europe/Berlin
BEGIN:VEVENT
UID:1335@laubach-online.de
DTSTART:20250501T120000Z
DTEND:20250501T200000Z
DTSTAMP:20250414T074330Z
URL:https://laubach-online.de/events/1-mai-feier/
SUMMARY:1. Mai Feier
DESCRIPTION:Der Sportverein 1958 Gonterskirchen lädt zur 1. Mai Feier auf 
 den Sportplatz ein.
ATTACH;FMTTYPE=image/jpeg:https://laubach-online.de/wp-content/uploads/202
 5/04/1.-Mai-Feier-Goki.jpg
CATEGORIES:Märkte &amp; Feste
LOCATION:Sportplatz Gonterskirchen\, Am Sportplatz\, Laubach\, 35321\, Deut
 schland
GEO:50.517069;9.02514
X-APPLE-STRUCTURED-LOCATION;VALUE=URI;X-ADDRESS=Am Sportplatz\, Laubach\, 3
 5321\, Deutschland;X-APPLE-RADIUS=100;X-TITLE=Sportplatz Gonterskirchen:ge
 o:50.517069,9.02514
END:VEVENT
END:VCALENDAR