BEGIN:VCALENDAR
VERSION:2.0
PRODID:-//wp-events-plugin.com//7.2.1//EN
TZID:Europe/Berlin
X-WR-TIMEZONE:Europe/Berlin
BEGIN:VEVENT
UID:1513@laubach-online.de
DTSTART:20260501T120000Z
DTEND:20260501T234500Z
DTSTAMP:20260220T134526Z
URL:https://laubach-online.de/events/1-mai-in-gonterskirchen/
SUMMARY:1. Mai in Gonterskirchen
DESCRIPTION:feiert mit dem SV Gonterskirchen den 1. Mai 2026 gemeinsam auf 
 dem Sportplatz.\nWir bieten beste Laune\, selbstgebackenen Kuchen\, lecker
  Würstchen und Pommes.\nFür die Kleinen haben wir eine Hüpfburg gesorgt
 .
ATTACH;FMTTYPE=image/jpeg:https://laubach-online.de/wp-content/uploads/202
 5/04/1.-Mai-Feier-Goki.jpg
CATEGORIES:Märkte &amp; Feste
LOCATION:Sportplatz Gonterskirchen\, Am Sportplatz\, Laubach\, 35321\, Deut
 schland
GEO:50.517069;9.02514
X-APPLE-STRUCTURED-LOCATION;VALUE=URI;X-ADDRESS=Am Sportplatz\, Laubach\, 3
 5321\, Deutschland;X-APPLE-RADIUS=100;X-TITLE=Sportplatz Gonterskirchen:ge
 o:50.517069,9.02514
END:VEVENT
END:VCALENDAR