BEGIN:VCALENDAR
VERSION:2.0
PRODID:-//wp-events-plugin.com//7.2.1//EN
TZID:Europe/Berlin
X-WR-TIMEZONE:Europe/Berlin
BEGIN:VEVENT
UID:1368@laubach-online.de
DTSTART;VALUE=DATE:20250627
DTEND;VALUE=DATE:20250630
DTSTAMP:20250624T124939Z
URL:https://laubach-online.de/events/10-jahre-seenbachdarter/
SUMMARY:10 Jahre Seenbachdarter
DESCRIPTION:🎯 10 Jahre Seenbachdarter – Wenn ihr Lust und Zeit habt\, 
 kommt vorbei!\n\nSeit 10 Jahren stehen die Seenbachdarter für Teamgeist\,
  Spaß und spannende Duelle am Dartboard.\nDieses Jubiläum wollen wir fei
 ern – und wenn ihr Lust habt\, seid ihr herzlich eingeladen!\n\nUnser Ju
 biläums-Wochenende im Überblick:\n\n📅 Donnerstag\, 27.06. – Seental
 -Doppel-Cup\n📅 Freitag\, 28.06. – Steffen-Schleuning-Cup\n📅 Samsta
 g\, 29.06. – Minos-Piercing-Open\n\n🎉 Egal ob Anfänger\, Hobbyspiele
 r oder einfach nur neugierig – kommt gerne vorbei\, spielt mit oder scha
 ut zu.\nEin\, zwei oder alle drei Turniere – alles kann\, nichts muss.\n
 \nWir freuen uns über jeden\, der Lust hat dabei zu sein!\n\nLink zur Anm
 eldung\n\nhttps://www.2k-dart-software.com/frontend/events/1/registration/
 1303/register
CATEGORIES:Sportveranstaltungen
LOCATION:Heinrich Norwig Halle Freienseen\, Oberseener Weg\, 35321\, Deutsc
 hland
GEO:50.560367;9.048943
X-APPLE-STRUCTURED-LOCATION;VALUE=URI;X-ADDRESS=Oberseener Weg\, 35321\, De
 utschland;X-APPLE-RADIUS=100;X-TITLE=Heinrich Norwig Halle Freienseen:geo:
 50.560367,9.048943
END:VEVENT
END:VCALENDAR