BEGIN:VCALENDAR
VERSION:2.0
PRODID:-//wp-events-plugin.com//7.2.1//EN
TZID:Europe/Berlin
X-WR-TIMEZONE:Europe/Berlin
BEGIN:VEVENT
UID:1365@laubach-online.de
DTSTART:20250704T200000Z
DTEND:20250706T200000Z
DTSTAMP:20250610T110047Z
URL:https://laubach-online.de/events/100-jahre-ff-ruppertsburg/
SUMMARY:100 Jahre FF Ruppertsburg
DESCRIPTION:Die FF Ruppertsburg wird 100 Jahre.\n\nFreitag Mallorca Party m
 it Tommy Fieber\n\nSamstag Festumzug mit anschließend Party mit den Kinze
 nbachern\n\nSonntag Festgottesdienst mit anschließend Frühschoppen.\n\nW
 eitere Infos bei IG: FFRuppertsburg\nOder bei Facebook FF Ruppertsburg
CATEGORIES:Märkte &amp; Feste
LOCATION:\, \, 
X-APPLE-STRUCTURED-LOCATION;VALUE=URI;X-ADDRESS=\, ;X-APPLE-RADIUS=100;X-TI
 TLE=:geo:0,0
END:VEVENT
END:VCALENDAR