BEGIN:VCALENDAR
VERSION:2.0
PRODID:-//wp-events-plugin.com//7.2.1//EN
TZID:Europe/Berlin
X-WR-TIMEZONE:Europe/Berlin
BEGIN:VEVENT
UID:995@laubach-online.de
DTSTART:20241013T090000Z
DTEND:20241013T140000Z
DTSTAMP:20240506T142036Z
URL:https://laubach-online.de/events/12-laubacher-ramsberglauf/
SUMMARY:12. Laubacher Ramsberglauf
DESCRIPTION:Laufen im Jubiläumsjahr!\nLiebe Läuferinnen und Läufer\,\nun
 ser Verein feiert in diesem Jahr sein 150-jähriges Bestehen. Das hat nat
 ürlich auch seinen Einfluss auf unseren mittlerweile zum 12. Mal ausgetra
 genen Laubacher Ramsberglauf:\nAm 13. Oktober 2024 ist es dann wieder sowe
 it: der Laubacher Ramsberg wird von Euch "unter die Füße" genommen. Nach
  Start in unserem herrlichen Schlosspark geht es für die Teilnehmer am In
 g.-Büro Albert &amp\; Legat UG 10 km Hauptlauf und dem Sparkasse Laubach-
 Hungen 5 km Jedermannlauf sowie für die Walker hinaus auf unseren Hausber
 g. Die wunderbare Landschaft vermittelt ein ganz besonderes Lauferlebnis.\
 nAußerdem gibt es für den Nachwuchs die Eiscafé-Venezia Laubach Bambini
  und Schülerläufe\, die komplett im Schlosspark stattfinden. Die Rekord-
 Beteiligung vom letzten Jahr möchten wir bei der diesjährigen Auflage ge
 rne noch überbieten!\nDie zweite Auflage in diesem Jahr hat der PflegeEng
 el-Staffellauf\, an dem Familien-\, Firmen-\, Schul- oder Vereinsstaffeln 
 teilnehmen können.\nDie ersten 150 online angemeldeten Teilnehmer erhalte
 n ein Funktionshandtuch (gesponsort vom Kaufhaus Schwalbach). Schnell sein
  lohnt sich also! Die Handtücher werden bei Abholung der Startnummern üb
 ergeben.\nZeitplan:\n10 km\, 5 km\, 7\,5 km Hauptlauf\, Jedermannlauf\, Wa
 lking 10:00 Uhr\n3 x 1 km Staffellauf 11:30 Uhr\n1\,5 km Schülerlauf 11:5
 0 Uhr\n0\,3 km Bambinilauf 12:00 Uhr\nWeitere Informationen finden Sie auf
  unserer Homepage unter: https://www.sv1874laubach.de/index.php/lauftreff/
 ramsberglauf/56-ramsberglauf-2024.\nDie Anmeldung ist über Raceresult (ht
 tps://my.raceresult.com/285697/registration) möglich.\n\n10 km Laufstreck
 e\n\n5 km Strecke\n\n7\,5 km Walkingstrecke\n\n1\,0 km Strecke für Staffe
 lwettbewerb\n\n1\,5 km Strecke für Schüler\n\n0\,3 km Strecke für Bambi
 nis\n\nWeitere Infos auf unserer Vereins-Homepage
ATTACH;FMTTYPE=image/jpeg:https://laubach-online.de/wp-content/uploads/202
 4/05/SoBi-Team.jpg
CATEGORIES:Sportveranstaltungen
LOCATION:Sport- und Kulturhalle Laubach\, Felix-Klipstein-Weg 23\, Laubach\
 , 35321\, Deutschland
GEO:50.548938;8.987553
X-APPLE-STRUCTURED-LOCATION;VALUE=URI;X-ADDRESS=Felix-Klipstein-Weg 23\, La
 ubach\, 35321\, Deutschland;X-APPLE-RADIUS=100;X-TITLE=Sport- und Kulturha
 lle Laubach:geo:50.548938,8.987553
END:VEVENT
END:VCALENDAR