BEGIN:VCALENDAR
VERSION:2.0
PRODID:-//wp-events-plugin.com//7.2.1//EN
TZID:Europe/Berlin
X-WR-TIMEZONE:Europe/Berlin
BEGIN:VEVENT
UID:1447@laubach-online.de
DTSTART:20260619T180000Z
DTEND:20260619T220000Z
DTSTAMP:20251021T130520Z
URL:https://laubach-online.de/events/22-coole-stricktipps-mit-thorsten-dui
 t/
SUMMARY:22 Coole Stricktipps mit Thorsten Duit
DESCRIPTION:Workshop mit Thorsten Duit\n\n22 Coole Stricktipps\nbegrenzte T
 eilnehmeranzahl\nKosten pro Person 55\,00 €
LOCATION:Hessenbrückenhof\, Hessenbrückenhammer\, 35321 Laubach\, Deutsch
 land
GEO:50.549234;8.935742
X-APPLE-STRUCTURED-LOCATION;VALUE=URI;X-ADDRESS=Hessenbrückenhammer\, 3532
 1 Laubach\, Deutschland;X-APPLE-RADIUS=100;X-TITLE=Hessenbrückenhof:geo:5
 0.549234,8.935742
END:VEVENT
END:VCALENDAR