BEGIN:VCALENDAR
VERSION:2.0
PRODID:-//wp-events-plugin.com//7.2.1//EN
TZID:Europe/Berlin
X-WR-TIMEZONE:Europe/Berlin
BEGIN:VEVENT
UID:1001@laubach-online.de
DTSTART:20240823T190000Z
DTEND:20240823T235900Z
DTSTAMP:20240516T092204Z
URL:https://laubach-online.de/events/29-hessisches-bluesfestival-blues-sch
 mus-apfelmus-2/
SUMMARY:29. Hessisches Bluesfestival - Blues\, Schmus + Apfelmus
DESCRIPTION:Deutschlands größtes Bluesfestival und schönstes Apfelfest d
 es Landes bietet seinen Gästen Ausstellungen\, einen Apfel- und Bauernmar
 kt\, Live-Musik auf vier überdachten Bühnen mit Blues in unterschiedlich
 en Variationen und Mundartbands. Weiterhin gibt es eine Traktoren und Oldt
 imer Ausstellung. Für die Kinder gibt es unter anderem ein Piratenschiff\
 , einen Kriechtunnel\, ein Kinderkarussell bis hin zum Wipe Out und noch m
 ehr....\nAm Sonntag findet wieder ein Familientag sowie der Bluesgottesdie
 nst statt. Info unter www.bluesschmusapfelmus.de
ATTACH;FMTTYPE=image/jpeg:https://laubach-online.de/wp-content/uploads/202
 1/01/IMGP0819a.jpg
CATEGORIES:Märkte &amp; Feste
LOCATION:Schlosspark\, Schlosspark\, Laubach\, Deutschland
GEO:50.544425;8.993532
X-APPLE-STRUCTURED-LOCATION;VALUE=URI;X-ADDRESS=Schlosspark\, Laubach\, Deu
 tschland;X-APPLE-RADIUS=100;X-TITLE=Schlosspark:geo:50.544425,8.993532
END:VEVENT
END:VCALENDAR