BEGIN:VCALENDAR
VERSION:2.0
PRODID:-//wp-events-plugin.com//7.2.1//EN
TZID:Europe/Berlin
X-WR-TIMEZONE:Europe/Berlin
BEGIN:VEVENT
UID:1483@laubach-online.de
DTSTART:20260821T190000Z
DTEND:20260823T234500Z
DTSTAMP:20260202T095724Z
URL:https://laubach-online.de/events/31-hessisches-bluesfestival/
SUMMARY:31. Hessisches Bluesfestival
DESCRIPTION:Bei Blues\, Schmus &amp\; Apfelmus finden Musikfreunde und Geni
 eßer zusammen.\nRund 30 Bluesbands spielen auf vierBühnen\, darüber hin
 aus werden am Samstag und Sonntag eine Vielfalt von Workshops angeboten. E
 s ist vielleicht das größte und älteste Bluesfest in Deutschland. Für 
 die kleinen Gäste gibt es ein erweitertes Kinderprogramm mit Hüpfburgen\
 , Karussell und Kreativangeboten. Zudem lädt die Oldtimer- und Traktoren-
 Ausstellung zum nostalgischen Flanieren ein. Neben den musikalischen Highl
 ights bietet das Festival eine Vielzahl an kulinarischen Genüssen: Von He
 ssens Nationalfrucht\, dem Apfel\, über hausgemachte Apfelkuchen\, Apfelb
 rand und Saft\, bis hin zu Kunsthandwerk\, Naturseife\, Holzkunst und Schm
 uck. Beim Schaukeltern können Sie live erleben\, wie aus Äpfeln frischer
  Saft wird. Am Sonntag ist wieder der beliebte Familientag für groß und 
 klein geplant.\n\nInfo: www.bluesschmusapfelmus.de
ATTACH;FMTTYPE=image/jpeg:https://laubach-online.de/wp-content/uploads/202
 3/06/NadjaLuckert.jpg
CATEGORIES:Märkte &amp; Feste
LOCATION:Schlosspark\, Schlosspark\, Laubach\, Deutschland
GEO:50.544425;8.993532
X-APPLE-STRUCTURED-LOCATION;VALUE=URI;X-ADDRESS=Schlosspark\, Laubach\, Deu
 tschland;X-APPLE-RADIUS=100;X-TITLE=Schlosspark:geo:50.544425,8.993532
END:VEVENT
END:VCALENDAR