BEGIN:VCALENDAR
VERSION:2.0
PRODID:-//wp-events-plugin.com//7.2.1//EN
TZID:Europe/Berlin
X-WR-TIMEZONE:Europe/Berlin
BEGIN:VEVENT
UID:945@laubach-online.de
DTSTART;VALUE=DATE:20240609
DTEND;VALUE=DATE:20240612
DTSTAMP:20240112T145623Z
URL:https://laubach-online.de/events/484-laubacher-ausschussfest/
SUMMARY:484. Laubacher Ausschußfest
DESCRIPTION:DAS Traditionsfest mit Herz!
ATTACH;FMTTYPE=image/jpeg:https://laubach-online.de/wp-content/uploads/202
 4/01/Hammel-f.-Veranstaltungskalender.jpg
CATEGORIES:Märkte &amp; Feste
LOCATION:Festplatz Helle\, Hungener Straße\, Laubach\, 35321\, Deutschland
GEO:50.537757;8.983599
X-APPLE-STRUCTURED-LOCATION;VALUE=URI;X-ADDRESS=Hungener Straße\, Laubach\
 , 35321\, Deutschland;X-APPLE-RADIUS=100;X-TITLE=Festplatz Helle:geo:50.53
 7757,8.983599
END:VEVENT
END:VCALENDAR