BEGIN:VCALENDAR
VERSION:2.0
PRODID:-//wp-events-plugin.com//7.2.1//EN
TZID:Europe/Berlin
X-WR-TIMEZONE:Europe/Berlin
BEGIN:VEVENT
UID:1021@laubach-online.de
DTSTART:20240620T190000Z
DTEND:20240620T213000Z
DTSTAMP:20240522T073741Z
URL:https://laubach-online.de/events/a-mid-summer-mnights-dream-william-sh
 akespeare/
SUMMARY:A MID SUMMER MNIGHT´S DREAM-William Shakespeare
DESCRIPTION:A MID SUMMER MNIGHT´S DREAM-William Shakespeare\n\nAUFFÜHRUNG
  IN ENGLISCHER SPRACHE\n\nDies ist Shakespeares beliebteste Komödie.\nDie
  Geschichte dreht sich um das Schicksal eines Liebesquartetts\, das von Fe
 en in den Wald gelockt wird\, die sie mit einem Zaubertrank austricksen\,\
 nder sie dazu zwingt\, sich in die erste Person zu verlieben\, die sie seh
 en. Traurigerweise nimmt die Königin der Feen selbst den Trank und als ei
 n Esel ihren Weg kreuzt\,\nverliebt sie sich in das Biest. Diese urkomisch
 e Komödie erforscht den Wahnsinn der Liebe und lacht über die menschlich
 e Torheit.\nEs enthält einige der schönsten Gedichte\, die Shakespeare g
 eschrieben hat\, Slapstick-Komödien\, berührende Liebesszenen\, Mysterie
 n und Theatermagie.\nDie Produktion von TNT war ein außerordentlicher wel
 tweiter Erfolg\, sie wurde hunderte Male auf drei Kontinenten aufgeführt 
 und sogar in Mandarin neu aufgeführt.\nDies ist Shakespeare\, der leicht 
 zu verstehen und zu genießen ist\, selbst für ein Publikum\, dessen Mutt
 ersprache nicht Englisch ist.\n\nIn die Inszenierung sind  Musik\, Choreo
 grafie\, Poesie und vor allem Comedy eingeflochten\, angeführt von einem 
 der größten Clowns des Barden: Bottom\, dem hoffnungslosen Laienschauspi
 eler.\n\nDirector -Paul Stebbings\n\nProducer-Grantly Marshall\n\nTickets 
 können im Tourismusbüro erworben werden.\n\n&nbsp\;
ATTACH;FMTTYPE=image/jpeg:https://laubach-online.de/wp-content/uploads/202
 4/05/Shakespeare.jpg
CATEGORIES:Konzerte
END:VEVENT
END:VCALENDAR