BEGIN:VCALENDAR
VERSION:2.0
PRODID:-//wp-events-plugin.com//7.2.1//EN
TZID:Europe/Berlin
X-WR-TIMEZONE:Europe/Berlin
BEGIN:VEVENT
UID:1098@laubach-online.de
DTSTART:20250105T180000Z
DTEND:20250105T190000Z
DTSTAMP:20241216T084313Z
URL:https://laubach-online.de/events/abendkonzert/
SUMMARY:Abendkonzert
DESCRIPTION:Nach dem ersten großen Projekt\, dem Requiem von John Rutter\,
  erarbeitet der Chor derzeit ein Abendkonzert\, „Zuversicht\, wo wir Ste
 rne sehen\, auch wenn der Himmel bedeckt ist! Eine Mischung aus Chor\, Ens
 emble und solistischem Gesang. Wir wünschen frohe Weihnachtstage und alle
 s Gute für das neue Jahr und freuen uns über Ihren Besuch unseres Konzer
 tes. Der Eintritt ist frei. Ihre/Eure Harmonie – Chor „Alis Canticum
 “.
ATTACH;FMTTYPE=image/jpeg:https://laubach-online.de/wp-content/uploads/202
 4/12/A6.png
LOCATION:Katholische Kirche St. Elisabeth\, Gerhart-Hautmann-Straße 4\, La
 ubach\, Deutschland
GEO:50.542884;8.986312
X-APPLE-STRUCTURED-LOCATION;VALUE=URI;X-ADDRESS=Gerhart-Hautmann-Straße 4\
 , Laubach\, Deutschland;X-APPLE-RADIUS=100;X-TITLE=Katholische Kirche St. 
 Elisabeth:geo:50.542884,8.986312
END:VEVENT
END:VCALENDAR