BEGIN:VCALENDAR
VERSION:2.0
PRODID:-//wp-events-plugin.com//7.2.1//EN
TZID:Europe/Berlin
X-WR-TIMEZONE:Europe/Berlin
BEGIN:VEVENT
UID:1011@laubach-online.de
DTSTART:20240713T090000Z
DTEND:20240713T140000Z
DTSTAMP:20240521T094055Z
URL:https://laubach-online.de/events/abnahme-sportabzeichen-2024/
SUMMARY:Abnahme Sportabzeichen 2024
DESCRIPTION:Auch im Jahr 2024 wird bei den Laubacher Sommerbiathleten und L
 äufern fleißig für das Deutsche Sportabzeichen trainiert. Für die Spor
 tabzeichen-Prüfungen bieten die Trainer des Vereins um DOSB Sportabzeiche
 nprüfer Tom Kritzer regelmäßig Trainingseinheiten an.\n\nDieser Termin 
 findet auf dem Sportplatz an der Sport- und Kulturhalle statt.\n\nDie Teil
 nahme ist kostenlos und nicht an eine Vereinszugehörigkeit gebunden.\n\nZ
 udem kann sich beim Lauftreff des SV 1874 Laubach jeder die nötige Ausdau
 er für die Laufdisziplinen holen. Jeden Donnerstag von 18 - 19 Uhr treffe
 n sich Läuferinnen und Läufer sowie die Walkinggruppe am Schützenhaus a
 m Hellenberg.\n\nFür weitere Fragen zum Sportabzeichen oder dem Lauftreff
  im SV 1874 Laubach stehen Lauf-Referent Frank Hänel (frank.haenel@freene
 t.de\, Tel. 0176-52328576) und Sommerbiathlon-Referent Andreas Tempelfeld 
 (andreas.tempelfeld@sv1874laubach.de\, Tel. 06405-950065) sowie DOSB Sport
 abzeichenprüfer Tom Kritzer (Tel. 0163/2502756) gerne zur Verfügung.
ATTACH;FMTTYPE=image/jpeg:https://laubach-online.de/wp-content/uploads/202
 4/05/Foto-Tom-Sportabzeichen-7.jpg
CATEGORIES:Sportveranstaltungen
LOCATION:Sport- und Kulturhalle Laubach\, Felix-Klipstein-Weg 23\, Laubach\
 , 35321\, Deutschland
GEO:50.548938;8.987553
X-APPLE-STRUCTURED-LOCATION;VALUE=URI;X-ADDRESS=Felix-Klipstein-Weg 23\, La
 ubach\, 35321\, Deutschland;X-APPLE-RADIUS=100;X-TITLE=Sport- und Kulturha
 lle Laubach:geo:50.548938,8.987553
END:VEVENT
END:VCALENDAR