BEGIN:VCALENDAR
VERSION:2.0
PRODID:-//wp-events-plugin.com//7.2.1//EN
TZID:Europe/Berlin
X-WR-TIMEZONE:Europe/Berlin
BEGIN:VEVENT
UID:1126@laubach-online.de
DTSTART:20250817T150000Z
DTEND:20250817T163000Z
DTSTAMP:20250204T135115Z
URL:https://laubach-online.de/events/abschluss-der-schlossparkkonzert-mit-
 dem-phoenix-trio/
SUMMARY:Abschluss der Schlossparkkonzert mit dem "Phoenix Trio"
DESCRIPTION:Vor der romantischen Kulisse des historischen Schlossparks im L
 uftkurort\nLaubach einen vergnüglichen Sonntagnachmittag bei Musik\, duft
 endem\nKaffee und hausgemachtem Kuchen genießen – dies wollen seit Jahr
 en\nimmer mehr Besucher erleben.\nDie von der Gemeinnützigen Laubacher Ku
 ltur und Bäder GmbH\norganisierten Konzerte werden seit Jahren von der\nS
 parkasse Laubach-Hungen und deren Stiftung unterstützt.\nDer Eintritt zu 
 den Konzerten ist frei.
ATTACH;FMTTYPE=image/jpeg:https://laubach-online.de/wp-content/uploads/202
 5/02/Foto-Eroeffnung-MV12.jpg
CATEGORIES:Konzerte
LOCATION:Schlossparkbühne am Kiosk\, Andree Allee\, Laubach\, Deutschland\
 , 35321\, Deutschland
GEO:50.550407;8.988929
X-APPLE-STRUCTURED-LOCATION;VALUE=URI;X-ADDRESS=Andree Allee\, Laubach\, De
 utschland\, 35321\, Deutschland;X-APPLE-RADIUS=100;X-TITLE=Schlossparkbüh
 ne am Kiosk:geo:50.550407,8.988929
END:VEVENT
END:VCALENDAR