BEGIN:VCALENDAR
VERSION:2.0
PRODID:-//wp-events-plugin.com//7.2.1//EN
TZID:Europe/Berlin
X-WR-TIMEZONE:Europe/Berlin
BEGIN:VEVENT
UID:483@laubach-online.de
DTSTART:20231215T160000Z
DTEND:20231215T200000Z
DTSTAMP:20231120T092235Z
URL:https://laubach-online.de/events/adventstreff-an-der-marktkueche-2023-
 12-15/
SUMMARY:Adventstreff an der Marktküche
DESCRIPTION:Liebe Laubacher  (Kernstadt und Stadtteile)\,\n\nwie im vergan
 genen Jahr\,  wollen wir den schönen Adventstreff  fortführen!\n\nNach
  dem Weihnachtsmarktwochenende\, jeweils freitags ab 16:00 h bis 20:00 h\n
 \n findet auf dem Kirchplatz der Treff statt. Es gibt Glühwein\, Bratwur
 st und Schmalzbrot.\n\nWir freuen uns auf Euer kommen mit regem Gesprächs
 austausch. Der Gewinn kommt wieder sozialen Einrichtungen zu Gute.\n\nEuer
  Marktteam
ATTACH;FMTTYPE=image/jpeg:https://laubach-online.de/wp-content/uploads/202
 3/11/adventtreffmarktkueche.jpg
CATEGORIES:Märkte &amp; Feste
LOCATION:Kirchplatz\, Kirchplatz\, Laubach\, Deutschland
GEO:50.542791;8.990438
X-APPLE-STRUCTURED-LOCATION;VALUE=URI;X-ADDRESS=Kirchplatz\, Laubach\, Deut
 schland;X-APPLE-RADIUS=100;X-TITLE=Kirchplatz:geo:50.542791,8.990438
END:VEVENT
END:VCALENDAR