BEGIN:VCALENDAR
VERSION:2.0
PRODID:-//wp-events-plugin.com//7.2.1//EN
TZID:Europe/Berlin
X-WR-TIMEZONE:Europe/Berlin
BEGIN:VEVENT
UID:1051@laubach-online.de
DTSTART:20240910T190000Z
DTEND:20240910T200000Z
DTSTAMP:20240809T124413Z
URL:https://laubach-online.de/events/auftaktveranstaltung-der-kampagne-auf
 suchende-energieberatung/
SUMMARY:Auftaktveranstaltung der Kampagne Aufsuchende Energieberatung
DESCRIPTION:Kostenfreie Energieberatung in Laubach vom 11.09.2024 bis 15.11
 .2024\n\nAuftaktveranstaltung der Kampagne Aufsuchende Energieberatung\nmi
 t Infos und Fachvorträgen am 10.09.2024\, 19:00 Uhr\,\nRathaus Laubach im
  großen Sitzungssaal\, Friedrichstraße 11\n\nInformation und Anmeldung:\
 nMichael Köppen\nTel.: 06405-921104\nMail: m.koeppen@laubach-online.de
ATTACH;FMTTYPE=image/jpeg:https://laubach-online.de/wp-content/uploads/202
 4/08/Plakat_Aufsuchende-Energieberatung_Laubach_A3-scaled.jpg
END:VEVENT
END:VCALENDAR