BEGIN:VCALENDAR
VERSION:2.0
PRODID:-//wp-events-plugin.com//7.2.1//EN
TZID:Europe/Berlin
X-WR-TIMEZONE:Europe/Berlin
BEGIN:VEVENT
UID:1127@laubach-online.de
DTSTART:20250429T193000Z
DTEND:20250429T210000Z
DTSTAMP:20250204T140914Z
URL:https://laubach-online.de/events/benefizkonzert-mit-dem-heeresmusikkor
 ps-kassel-zum-erhalt-der-laubacher-schwimmbaeder/
SUMMARY:Benefizkonzert mit dem Heeresmusikkorps Kassel zum Erhalt der Lauba
 cher Schwimmbäder
DESCRIPTION:Mit einem Benefizkonzert werden die Bundeswehrmusikerinnen und 
 -musiker zum Erhalt der Laubacher Bäder beitragen und sicher für beste u
 nd professionelle Unterhaltung in der Sport- und Kulturhalle sorgen. Höch
 ste musikalische und militärische Präzision\, ein facettenreiches Klangs
 pektrum\nverschmolzen in einem Zusammenspiel aus Tradition und Moderne - d
 as Heeresmusikkorps Kassel ist der musikalische Botschafter der Bundeswehr
  aus Nordhessen.\nVon traditionellen Armeemärschen über mitreißende Ori
 ginalkompositionen bis hin zu moderner Unterhaltungsmusik bildet das Heere
 smusikkorps Kassel eine beeindruckende Repertoirevielfalt ab und gehört s
 omit zu den herausragenden Profiorchestern in der deutschen Blasorchesters
 zene.\nNeben Wohltätigkeitskonzerten ist die Truppenbetreuung im In- und 
 Ausland eine wichtige Aufgabe des Militärorchesters. Auch auf dem Appellp
 latz besticht das Heeresmusikkorps Kassel durch Akkuratesse gepaart mit ei
 ner eindrucksvollen Klangvielfalt.\nDie rund 50 Musiksoldatinnen und -sold
 aten schöpfen ihr Potential auch in kleinen Ensembles voll aus. Neben den
  festen Besetzungen wie einem Blechbläserquintett\, einem Holzbläserquin
 tett\, einem Klarinettenensemble\, einer Egerländerbesetzung sowie einer 
 Tanz- und Partyband finden sich auch immer wieder projektbezogene kleine F
 ormationen zusammen\, wodurch jede Veranstaltung auf höchstem Niveau musi
 kalisch umrahmt werden kann. Als klingende Visitenkarte der Bundesrepublik
  Deutschland repräsentiert das Heeresmusikkorps Kassel die Bundeswehr reg
 elmäßig auch auf internationalen Events. Höhepunkte der letzten Jahre w
 aren unter anderem die Teilnahme an namhaften Musikshows wie dem Royal Edi
 nburgh Military Tattoo und dem Virginia International Tattoo sowie Konzert
 reisen nach Mexiko und ins europäische Ausland.\nDas Orchester steht ab F
 ebruar 2025 unter der neuen Leitung von Hauptmann Christoph Schiffers.\nKa
 rten erhalten Sie zu 19 € im Kultur- und Tourismusbüro Laubach\, Bahnho
 fstraße 1\, Tel. 06405 – 921 372 oder tourist-info@laubach-online.de\, 
 in der Buchhandlung Reinhard in Grünberg\, Tourist-Info Gießen\, Haus de
 r Karten Gießen\, Buck lesen-schreiben-spielen GmbH in Hungen und bei Car
 dTank24 in Laubach-Wetterfeld.
ATTACH;FMTTYPE=image/jpeg:https://laubach-online.de/wp-content/uploads/202
 5/02/Blick-ins-Orchester-scaled.jpg
CATEGORIES:Konzerte
LOCATION:Sport- und Kulturhalle Laubach\, Felix-Klipstein-Weg 23\, Laubach\
 , 35321\, Deutschland
GEO:50.548938;8.987553
X-APPLE-STRUCTURED-LOCATION;VALUE=URI;X-ADDRESS=Felix-Klipstein-Weg 23\, La
 ubach\, 35321\, Deutschland;X-APPLE-RADIUS=100;X-TITLE=Sport- und Kulturha
 lle Laubach:geo:50.548938,8.987553
END:VEVENT
END:VCALENDAR