BEGIN:VCALENDAR
VERSION:2.0
PRODID:-//wp-events-plugin.com//7.2.1//EN
TZID:Europe/Berlin
X-WR-TIMEZONE:Europe/Berlin
BEGIN:VEVENT
UID:1130@laubach-online.de
DTSTART:20250404T160000Z
DTEND:20250404T173000Z
DTSTAMP:20250210T082403Z
URL:https://laubach-online.de/events/bilderbuchkino-nacht-der-bibliotheken
 /
SUMMARY:Bilderbuchkino - Nacht der Bibliotheken
DESCRIPTION:Unter dem Motto „Wissen. Teilen. Entdecken.“ werden Bibliot
 heken in ganz Deutschland am 4. April 2025 erstmals bundesweit um die Wett
 e strahlen. Mit einem bunten Programm an Veranstaltungen\, Workshops\, Les
 ungen und Führungen sind alle Bürgerinnen und Bürger eingeladen\, ihre 
 Bibliotheken neu zu entdecken. Alle Veranstaltungen\, Informationen und Hi
 ntergründe zur ersten bundesweiten Nacht der Bibliotheken unter www.nacht
 derbibliotheken.de.\n\nAls KÖB St. Elisabeth Laubach möchten auch wir an
  dieser Aktion teilnehmen. Wir bieten sowohl für Kinder als auch für Erw
 achsene etwas an. Wir beginnen um 16 Uhr bis 17:30 Uhr im Jugendraum mit e
 inem Bilderbuchkino für Kinder im Kindergartenalter. Es wird eine Geschic
 hte mit Bildbegleitung vorgelesen und anschließend können die Kinder pas
 sende Bilder ausmalen.
ATTACH;FMTTYPE=image/jpeg:https://laubach-online.de/wp-content/uploads/202
 5/02/Nacht-der-Bibliotheken-Flyer.jpg
CATEGORIES:Lesung
LOCATION:Katholische Kirche St. Elisabeth\, Gerhart-Hautmann-Straße 4\, La
 ubach\, Deutschland
GEO:50.542884;8.986312
X-APPLE-STRUCTURED-LOCATION;VALUE=URI;X-ADDRESS=Gerhart-Hautmann-Straße 4\
 , Laubach\, Deutschland;X-APPLE-RADIUS=100;X-TITLE=Katholische Kirche St. 
 Elisabeth:geo:50.542884,8.986312
END:VEVENT
END:VCALENDAR