BEGIN:VCALENDAR
VERSION:2.0
PRODID:-//wp-events-plugin.com//7.2.1//EN
TZID:Europe/Berlin
X-WR-TIMEZONE:Europe/Berlin
BEGIN:VEVENT
UID:948@laubach-online.de
DTSTART;TZID=Europe/Berlin:20240126T190000
DTEND;TZID=Europe/Berlin:20240126T220000
DTSTAMP:20240112T121723Z
URL:https://laubach-online.de/events/blues-beim-bier/
SUMMARY:Blues beim Bier
DESCRIPTION:"Blues beim Bier"\nOrt: Braumanufaktur Laubach\nBeginn: 19 Uhr\
 nEintritt: frei (Der Hut geht rum)\nÖffentliche Veranstaltung\n\nVeransta
 lter: Kunst- und Kulturforum Laubach e.V.
ATTACH;FMTTYPE=image/jpeg:https://laubach-online.de/wp-content/uploads/202
 4/01/Unbenannt.jpg
CATEGORIES:Konzerte
END:VEVENT
BEGIN:VTIMEZONE
TZID:Europe/Berlin
X-LIC-LOCATION:Europe/Berlin
BEGIN:STANDARD
DTSTART:20231029T020000
TZOFFSETFROM:+0200
TZOFFSETTO:+0100
TZNAME:CET
END:STANDARD
END:VTIMEZONE
END:VCALENDAR