BEGIN:VCALENDAR
VERSION:2.0
PRODID:-//wp-events-plugin.com//7.2.1//EN
TZID:Europe/Berlin
X-WR-TIMEZONE:Europe/Berlin
BEGIN:VEVENT
UID:1477@laubach-online.de
DTSTART;TZID=Europe/Berlin:20260820T180000
DTEND;TZID=Europe/Berlin:20260820T223000
DTSTAMP:20260116T081434Z
URL:https://laubach-online.de/events/blues-fuer-ungeduldige/
SUMMARY:Blues für Ungeduldige
DESCRIPTION:
CATEGORIES:Konzerte
LOCATION:Braumanufaktur Laubach\, Gerhart-Hautmann-Straße 1\, Laubach\, 35
 321\, Deutschland
GEO:50.542969;8.987482
X-APPLE-STRUCTURED-LOCATION;VALUE=URI;X-ADDRESS=Gerhart-Hautmann-Straße 1\
 , Laubach\, 35321\, Deutschland;X-APPLE-RADIUS=100;X-TITLE=Braumanufaktur 
 Laubach:geo:50.542969,8.987482
END:VEVENT
BEGIN:VTIMEZONE
TZID:Europe/Berlin
X-LIC-LOCATION:Europe/Berlin
BEGIN:DAYLIGHT
DTSTART:20260329T030000
TZOFFSETFROM:+0100
TZOFFSETTO:+0200
TZNAME:CEST
END:DAYLIGHT
END:VTIMEZONE
END:VCALENDAR