BEGIN:VCALENDAR
VERSION:2.0
PRODID:-//wp-events-plugin.com//7.2.1//EN
TZID:Europe/Berlin
X-WR-TIMEZONE:Europe/Berlin
BEGIN:VEVENT
UID:1494@laubach-online.de
DTSTART;TZID=Europe/Berlin:20260410T190000
DTEND;TZID=Europe/Berlin:20260410T220000
DTSTAMP:20260203T075710Z
URL:https://laubach-online.de/events/colours-of-blue/
SUMMARY:Colours of Blue
DESCRIPTION:Heute ist die wieder Band "Colours of Blue" bei uns zu Gast\, d
 er Garant für handgemachten Rock\, Blues\, Funk &amp\; Soul. Die Band ist
  nicht das erste Mal bei uns\, sie wurde auf mehrfachen Wunsch unseres Pub
 likums vorgeschlagen möglichst bald wiederzukommen. Diesem Wunsch kommen 
 wir gerne nach. Eintritt frei (gegen Spende für unseren Kunstverein)
CATEGORIES:Konzerte
LOCATION:Braumanufaktur Laubach\, Gerhart-Hautmann-Straße 1\, Laubach\, 35
 321\, Deutschland
GEO:50.542969;8.987482
X-APPLE-STRUCTURED-LOCATION;VALUE=URI;X-ADDRESS=Gerhart-Hautmann-Straße 1\
 , Laubach\, 35321\, Deutschland;X-APPLE-RADIUS=100;X-TITLE=Braumanufaktur 
 Laubach:geo:50.542969,8.987482
END:VEVENT
BEGIN:VTIMEZONE
TZID:Europe/Berlin
X-LIC-LOCATION:Europe/Berlin
BEGIN:DAYLIGHT
DTSTART:20260329T030000
TZOFFSETFROM:+0100
TZOFFSETTO:+0200
TZNAME:CEST
END:DAYLIGHT
END:VTIMEZONE
END:VCALENDAR