BEGIN:VCALENDAR
VERSION:2.0
PRODID:-//wp-events-plugin.com//7.2.1//EN
TZID:Europe/Berlin
X-WR-TIMEZONE:Europe/Berlin
BEGIN:VEVENT
UID:1102@laubach-online.de
DTSTART:20250404T190000Z
DTEND:20250405T230000Z
DTSTAMP:20250106T104957Z
URL:https://laubach-online.de/events/comedy-quartett-in-lauter/
SUMMARY:Comedy-Quartett in Lauter
DESCRIPTION:Das Männerballett „Hippegiggel“ des TSV-1910-Lauter e.V. f
 reut sich\, am 4. und 5. April 2025 bekannte Gesichter aus dem hessischen 
 Fernsehen zu einem lustigen Comedy-Abend in der Sporthalle in Lauter begr
 üßen zu können. Die bekannte Sitzungspräsidentin der hessischen Weiber
 fastnacht vom HR -Fernsehen\, Michaela Hartnagel-Keil\, die bekannte Kabar
 ettistin Kättl Feierdaach\, die Komödianten vom "Duo-feinHerb" und schli
 eßlich das bekannte Mundart-Comedy-Duo "Die Bousseldanden" haben ihr Komm
 en zugesagt. Letztere wussten bereits im Oktober 2023 an zwei Abenden in L
 auter das Publikum mit ihren Alltagsgeschichten "off platt" zu begeistern.
 \n\nAuch dieses Mal wird Stefan Zimmer aus Lauter im Vor-Programm mit eine
 r "Märchen"-Lesung auf Mundart den Abend einstimmen.\n\nDer Karten-Vorver
 kauf hat an den unten genannten Stellen begonnen:\n\nKarten können erworb
 en werden bei:\nFamilie Lenz Lautertalstrasse 23 in Laubach-Lauter\noder u
 nter Mobilnummer 0155 1069 7719
CATEGORIES:Sportveranstaltungen
LOCATION:Dorfgemeinschaftshaus Lauter\, An der Lauter \, 35321 Laubach\, De
 utschland
GEO:50.568936;8.972225
X-APPLE-STRUCTURED-LOCATION;VALUE=URI;X-ADDRESS=An der Lauter \, 35321 Laub
 ach\, Deutschland;X-APPLE-RADIUS=100;X-TITLE=Dorfgemeinschaftshaus Lauter:
 geo:50.568936,8.972225
END:VEVENT
END:VCALENDAR