BEGIN:VCALENDAR
VERSION:2.0
PRODID:-//wp-events-plugin.com//7.2.1//EN
TZID:Europe/Berlin
X-WR-TIMEZONE:Europe/Berlin
BEGIN:VEVENT
UID:1406@laubach-online.de
DTSTART:20250919T200000Z
DTEND:20250919T213000Z
DTSTAMP:20250730T130244Z
URL:https://laubach-online.de/events/coming-home-leseland-giessen-mit-lars
 -amend/
SUMMARY:"Coming Home" Leseland Giessen mit Lars Amend
DESCRIPTION:Nachdem Bestsellerautor Lars Amend in seinen Zwanzigern das Leb
 en eines Rockstars führte\, voller Ruhm und mit den ganz Großen der Musi
 kszene\, fand er Ruhe und Erfüllung im Familienleben.\n\nDoch diese neue 
 Geborgenheit wird jäh erschüttert\, als Lars vor einer seiner härtesten
  Prüfungen steht: der Krankheit und dem Tod seiner Mutter. Durch diese pe
 rsönlichste aller Erfahrungen reflektiert er\, was im Leben tatsächlich 
 Bedeutung hat.\n\nLars' Erkenntnis: Das Leben - mit all seinen Licht- und 
 Schattenseiten - bietet immer die Gelegenheit\, in allem einen Sinn zu seh
 en und in uns selbst ein Zuhause zu finden. „Coming Home" ist das bisher
  persönlichste Buch des Autors und zugleich eine Einladung\, das Leben tr
 otz seiner Unwägbarkeiten anzunehmen und die eigene Bestimmung zu finden.
 \n\nLars zeigt\, dass es völlig in Ordnung ist\, zu straucheln\, zu zweif
 eln und zu hoffen.\n\nDenn es sind gerade diese Momente\, die uns letztend
 lich zu uns selbst führen und uns erkennen lassen\, wo unser wahres Zuhau
 se liegt.\n\nLars Amend\, 1978 in Gießen geboren\, ist ein deutscher Best
 sellerautor\, Life Coach und Podcaster.\nSein Debüt „Bushido" zählt bi
 s heute zu den meistverkauften Musikerbiografien Deutschlands. Es folgten 
 weitere Bestseller wie „Dieses bescheuerte Herz".\nEr lebt mit seiner Fa
 milie in der Nähe von Frankfurt am Main.\n\n&nbsp\;\n\nKartenvorverkauf a
 uch im Kultur- und Tourismusbüro\, Bahnhofstraße 1\; 35321 Laubach 06405
 -921372 tourist-info@laubach-online.de\n\n&nbsp\;
ATTACH;FMTTYPE=image/jpeg:https://laubach-online.de/wp-content/uploads/202
 5/07/Amend_AZ_LO_140x140_TZ_LG.jpg
CATEGORIES:Lesung
LOCATION:Rathaussaal\, Friedrichstraße 11\, Laubach\, 35321\, Deutschland
GEO:50.540895;8.991633
X-APPLE-STRUCTURED-LOCATION;VALUE=URI;X-ADDRESS=Friedrichstraße 11\, Lauba
 ch\, 35321\, Deutschland;X-APPLE-RADIUS=100;X-TITLE=Rathaussaal:geo:50.540
 895,8.991633
END:VEVENT
END:VCALENDAR