BEGIN:VCALENDAR
VERSION:2.0
PRODID:-//wp-events-plugin.com//7.2.1//EN
TZID:Europe/Berlin
X-WR-TIMEZONE:Europe/Berlin
BEGIN:VEVENT
UID:1449@laubach-online.de
DTSTART:20260621T100000Z
DTEND:20260621T140000Z
DTSTAMP:20251021T130323Z
URL:https://laubach-online.de/events/contigous-stricken-mit-thorsten-duit/
SUMMARY:Contigous stricken mit Thorsten Duit
DESCRIPTION:Workshop Contigous stricken mit Thorsten Duit\n\nbegrenzte Teil
 nehmeranzahl\nKosten pro Person 55\,00 €
LOCATION:Hessenbrückenhof\, Hessenbrückenhammer\, 35321 Laubach\, Deutsch
 land
GEO:50.549234;8.935742
X-APPLE-STRUCTURED-LOCATION;VALUE=URI;X-ADDRESS=Hessenbrückenhammer\, 3532
 1 Laubach\, Deutschland;X-APPLE-RADIUS=100;X-TITLE=Hessenbrückenhof:geo:5
 0.549234,8.935742
END:VEVENT
END:VCALENDAR