BEGIN:VCALENDAR
VERSION:2.0
PRODID:-//wp-events-plugin.com//7.2.1//EN
TZID:Europe/Berlin
X-WR-TIMEZONE:Europe/Berlin
BEGIN:VEVENT
UID:1485@laubach-online.de
DTSTART:20260424T100000Z
DTEND:20260426T180000Z
DTSTAMP:20260202T104216Z
URL:https://laubach-online.de/events/das-gartenfest-laubach/
SUMMARY:Das Gartenfest Laubach
DESCRIPTION:Das Ambiente ist traumhaft: Im Hintergrund das sehenswerte Schl
 oss Laubach\, davor im historischen Landschaftspark die weißen Pagodenzel
 te der rund 120 ausgewählten Aussteller\, die alles zusammengetragen habe
 n\, was die Herzen von Gartenfreunden und Lifestylefans höherschlagen lä
 sst. Farbenfrohe Pflanzen\, Gartenaccessoires sowie ein leckeres kulinaris
 ches Angebot machen den Besuch in dem Laubacher Schlosspark zu einem unver
 gesslichen Ausflugsziel.
ATTACH;FMTTYPE=image/jpeg:https://laubach-online.de/wp-content/uploads/202
 6/02/Gartenfest_1-scaled.jpg
CATEGORIES:Märkte &amp; Feste
LOCATION:Schlosspark\, Schlosspark\, Laubach\, Deutschland
GEO:50.544425;8.993532
X-APPLE-STRUCTURED-LOCATION;VALUE=URI;X-ADDRESS=Schlosspark\, Laubach\, Deu
 tschland;X-APPLE-RADIUS=100;X-TITLE=Schlosspark:geo:50.544425,8.993532
END:VEVENT
END:VCALENDAR