BEGIN:VCALENDAR
VERSION:2.0
PRODID:-//wp-events-plugin.com//7.2.1//EN
TZID:Europe/Berlin
X-WR-TIMEZONE:Europe/Berlin
BEGIN:VEVENT
UID:978@laubach-online.de
DTSTART:20240428T100000Z
DTEND:20240428T140000Z
DTSTAMP:20240312T085526Z
URL:https://laubach-online.de/events/der-flohmarkt-fuers-tier/
SUMMARY:Der Flohmarkt fürs Tier
DESCRIPTION:Der Flohmarkt fürs Tier in Laubach-Wetterfeld.\nAufbau ab 10Uh
 r.\nVerkauf von 12-16Uhr.\nKaffee und Kuchen auf Spendenbasis - der Erlös
  daraus kommt zwei gemeinnützigen Vereinen aus dem Bereich Tierschutz zug
 ute.\nAnmeldung und Infos unter haustierflohmarkt-laubach@web.de\nTisch oh
 ne Kuchen: 15€\nTisch mit Kuchen: 10€
ATTACH;FMTTYPE=image/jpeg:https://laubach-online.de/wp-content/uploads/202
 4/03/de25e0e7-9c66-4884-9a34-af76be4733e8.jpeg
CATEGORIES:Märkte &amp; Feste
LOCATION:Dorfgemeinschaftshaus Wetterfeld\, Ruppertsburger Str. 3\, Wetterf
 eld\, 35321\, Deutschland
GEO:50.547523;8.955822
X-APPLE-STRUCTURED-LOCATION;VALUE=URI;X-ADDRESS=Ruppertsburger Str. 3\, Wet
 terfeld\, 35321\, Deutschland;X-APPLE-RADIUS=100;X-TITLE=Dorfgemeinschafts
 haus Wetterfeld:geo:50.547523,8.955822
END:VEVENT
END:VCALENDAR