BEGIN:VCALENDAR
VERSION:2.0
PRODID:-//wp-events-plugin.com//7.2.1//EN
TZID:Europe/Berlin
X-WR-TIMEZONE:Europe/Berlin
BEGIN:VEVENT
UID:1442@laubach-online.de
DTSTART:20260507T180500Z
DTEND:20260507T223000Z
DTSTAMP:20250925T082809Z
URL:https://laubach-online.de/events/der-stadttheater-bus-bringt-sie-zu-de
 m-dramma-giocoso-in-drei-akten-gaertnerin-aus-liebe-von-wolfgang-amadeus-m
 ozart-libretto-von-giovanni-petrosellini/
SUMMARY:Der Stadttheater-Bus bringt Sie zu dem Dramma giocoso in drei Akten
  „Gärtnerin aus Liebe“ von Wolfgang Amadeus Mozart // Libretto von  G
 iovanni Petrosellini
DESCRIPTION:Am Donnerstag\, 07. Mai 2026 fährt der Theaterbus zu dem Dramm
 a giocoso in drei Akten „Gärtnerin aus Liebe“ von Wolfgang Amadeus Mo
 zart // Libretto von Giovanni Petrosellini. Die Vorstellung beginnt um 19:
 30 Uhr.\n„Schlaf ich\, träum ich\, oder wach ich? Mein Gehirn ist ganz 
 verrückt.“\nSchon mit 18 Jahren zeigt sich Mozart mit diesem „lustige
 n Drama“ als lebenskluger Menschenkenner\, der aus vertrackten Lebenslag
 en zutiefst humane Komödien zu stricken vermag. Irrungen und Wirrun-gen\,
  Verwechslungen und Verleugnungen gibt es in „Gärtnerin aus Liebe“ zu
 hauf: Graf Belfiore hat aus Eifersucht seine Geliebte\, die Gräfin Violan
 te Oneste\, umgebracht und flieht – nicht wissend\, dass sie überlebt h
 at. Als sie sich\, um ihren Geliebten wiederzugewinnen\, als Gärtnerin be
 i dem alten Podestà Don Anchise – der natürlich bald ein Auge auf die 
 Hübsche wirft – anstellen lässt\, nimmt das Unheil sei-nen Lauf. Ihr D
 iener verliebt sich in eine Hofdame\, welche wiederum Don Anchise zu gewin
 nen versucht. Dessen Nichte Arminda verschmäht den liebeskranken Don Rami
 ro zugunsten eines unbekann-ten Adligen\, und schließlich erscheint diese
 r unbekannte Adlige und entpuppt sich als Graf Belfiore – welcher nun in
  der Gärtnerin seine ermordete Geliebte zu erkennen glaubt... Dass letztl
 ich (fast) alle ihren Wunschpartner bekommen\, versteht sich in diesem ver
 rückt-unterhaltsamen Frühwerk von selbst.\nFür diese Fahrt gilt: Wer mi
 t dem Stadttheaterbus mitfahren will\, kann bis 14 Tage vor der Aufführun
 g Karten inklusive Busfahrt in den Rathäusern oder in den Tourismusbüros
  der einzelnen Städte kaufen.\nDie letzte Fahrt mit dem Theaterbus ist am
  Freitag\, 29.05.2026 zu dem Schauspiel „Das Opferfest“ von Ibrahim Am
 ir.\nAm Aufführungstag fährt der Bus um 18:05 Uhr in Laubach (Sparkasse)
 \, um 18:15 Uhr in Villingen (Volksbank\, Hochstraße 5)\, um 18:25 Uhr in
  Hungen (Rathaus)\, um 18:35 Uhr in Langsdorf (Haltestelle Licher Pforte)\
 , um 18:45 Uhr in Lich (Haltestelle Heinrich- Neeb-Straße) und um 18:50 U
 hr an der Haltestelle Garbenteicher Straße ab. Karten für diese Theaterf
 ahrt erhalten Sie ab sofort zu 41\,00 € (PG 2) sowie 45\,00 € (PG 1) b
 ei der Stadtverwaltung Hungen (Tel. 06402-850)\, dem Laubacher Kultur- und
  Tourismusbüro (06405-921-372) und dem Tourismusbüro Lich (06404-806-100
 ).
ATTACH;FMTTYPE=image/jpeg:https://laubach-online.de/wp-content/uploads/202
 5/09/Theaterbus-25-26-7-pdf.jpg
CATEGORIES:Konzerte
LOCATION:Sparkassen Parkplatz\, August Krieger Straße 19\, Laubach\, 35321
 \, Deutschland
GEO:50.541442;8.986713
X-APPLE-STRUCTURED-LOCATION;VALUE=URI;X-ADDRESS=August Krieger Straße 19\,
  Laubach\, 35321\, Deutschland;X-APPLE-RADIUS=100;X-TITLE=Sparkassen Parkp
 latz:geo:50.541442,8.986713
END:VEVENT
END:VCALENDAR