BEGIN:VCALENDAR
VERSION:2.0
PRODID:-//wp-events-plugin.com//7.2.1//EN
TZID:Europe/Berlin
X-WR-TIMEZONE:Europe/Berlin
BEGIN:VEVENT
UID:1435@laubach-online.de
DTSTART:20251025T180500Z
DTEND:20251025T223000Z
DTSTAMP:20250925T081553Z
URL:https://laubach-online.de/events/der-stadttheater-bus-bringt-sie-zu-de
 m-musical-wintergreen-for-president/
SUMMARY:Der Stadttheater-Bus bringt Sie zu dem Musical „Wintergreen for P
 resident“
DESCRIPTION:Am Samstag\, 25. Oktober 2025 fährt der Theaterbus zu dem Musi
 cal „Wintergreen for President“. Die Vorstellung beginnt um 19:30 Uhr.
 \n\nMusik und Gesangstexte von George und Ira Gershwin.  Buch von George 
 S. Kaufman und Morrie Ryskind. Deutsch von Roman Hinze. Deutsche Erstauff
 ührung.\n\nJohn P. Wintergreen soll Präsident der Vereinigten Staaten vo
 n Amerika werden\, aber die Prognosen sprechen gegen ihn. Also muss ein Th
 ema her\, „das jeden interessiert\, das aber nach Möglichkeit nicht die
  geringste Rolle spielt“ – die Liebe! Wintergreen soll die Gewinnerin 
 eines bundesweiten Schönheitswettbewerbs öffentlichkeitswirksam heiraten
 . Doch die Liebe hält sich weder an Wettbewerbsergebnisse noch an Diploma
 tie und schon bald droht der Französische Botschafter mit fürchterlichen
  Konsequenzen.  Die absurde Politsatire von 1931 begeistert mit üppiger\
 , vielfältiger Musik\, temporeicher Handlung und pointensicheren Dialogen
 .\n\nFür diese Fahrt gilt: Wer mit dem Stadttheaterbus mitfahren will\, k
 ann bis 14 Tage vor der Aufführung Karten inklusive Busfahrt in den Rath
 äusern oder in den Tourismusbüros der einzelnen Städte kaufen. In den k
 ommenden Wochen und Monaten fahren die Theaterbusse zu folgenden Aufführu
 ngen: Am 16.11.2025 „Die rote Zora und ihre Bande“ (Schauspiel nach de
 m Kinderbuch von Kurt Held / Familienstück | für Kinder und Jugendliche 
 ab 6 Jahre)\; 29.11.2025 „Prinz Friedrich von Homburg“ Schauspiel von 
 Heinrich von Kleist // ab 16 Jahren\; 19.12.2025 „The Addams Family“ M
 usical-Comedy\, Familienstück\, Ab 12 Jahren\; 23.01.2026 „Dumme Jahre
 “ Schauspiel von Thomas Freyer\; 20.02.2026 „La Traviata“ Oper von G
 iuseppe Verdi\; 07.03.2026 „Martha“ Romantisch-komische Oper in vier A
 kten von Friedrich von Flotow\; 02.04.2026 „Frau Yamamoto ist noch da“
  Schauspiel von Dea Loher\; 07.05.2026 „Gärtnerin aus Liebe“ Dramma g
 iocoso in drei Akten von Wolfgang Amadeus Mozart // Libretto von Giovanni 
 Petrosellini. 29.05.2026 „Das Opferfest“ Schauspiel von Ibrahim Amir.\
 n\nAm Aufführungstag fährt der Bus um 18:05 Uhr in Laubach (Sparkasse)\,
  um 18:15 Uhr in Villingen (Volksbank\, Hochstraße 5)\, um 18:25 Uhr in H
 ungen (Rathaus)\, um 18:35 Uhr in Langsdorf (Haltestelle Licher Pforte)\, 
 um 18:45 Uhr in Lich (Haltestelle Heinrich-Neeb-Straße) und um 18:50 Uhr 
 an der Haltestelle Garbenteicher Straße ab.\n\nKarten für diese Theaterf
 ahrt erhalten Sie ab sofort zu 41\,00 € (PG 2) sowie 45\,00 € (PG 1) b
 ei der Stadtverwaltung Hungen (Tel. 06402-850)\, dem Laubacher Kultur- und
   Tourismusbüro (06405-921-372) und dem Tourismusbüro Lich (06404-806-1
 00).
ATTACH;FMTTYPE=image/jpeg:https://laubach-online.de/wp-content/uploads/202
 5/09/Theaterbus-1-pdf.jpg
CATEGORIES:Konzerte
LOCATION:Sparkassen Parkplatz\, August Krieger Straße 19\, Laubach\, 35321
 \, Deutschland
GEO:50.541442;8.986713
X-APPLE-STRUCTURED-LOCATION;VALUE=URI;X-ADDRESS=August Krieger Straße 19\,
  Laubach\, 35321\, Deutschland;X-APPLE-RADIUS=100;X-TITLE=Sparkassen Parkp
 latz:geo:50.541442,8.986713
END:VEVENT
END:VCALENDAR