BEGIN:VCALENDAR
VERSION:2.0
PRODID:-//wp-events-plugin.com//7.2.1//EN
TZID:Europe/Berlin
X-WR-TIMEZONE:Europe/Berlin
BEGIN:VEVENT
UID:1443@laubach-online.de
DTSTART:20260529T183000Z
DTEND:20260529T223000Z
DTSTAMP:20250925T083031Z
URL:https://laubach-online.de/events/der-stadttheater-bus-bringt-sie-zu-de
 m-schauspiel-das-opferfest-von-ibrahim-amir/
SUMMARY:Der Stadttheater-Bus bringt Sie zu dem Schauspiel „Das Opferfest
 “ von Ibrahim Amir
DESCRIPTION:Am Freitag\, 29. Mai 2026 fährt der Theaterbus zu dem Schauspi
 el „Das Opferfest“ von Ibrahim Amir. Die Vorstellung beginnt um 19:30 
 Uhr.\n„Ich bin Atheist. – Großer Gott“\nEin warmer Sommerabend. Ras
 hid und Sara wollen im Garten ihres Reihenhauses mit ihren drei erwachsene
 n Kindern das Opferfest feiern. Getrübt wird die Stimmung schnell: Sohn W
 alid\, mit der Vehemenz eines 20-Jährigen gesegnet\, findet\, sein Vater 
 sei ein „halbherziger Freizeit-Moslem“. Umgekehrt nervt es Rashid\, da
 ss sein Jüngster zwar ständig den Koran zitiert\, es mit den Bemühungen
  um eine Lehrstelle aber weniger genau nimmt. Als der älteste Sohn Hasan 
 zwar mit Kind\, aber ohne seine Frau dazukommt\, findet er seine Ehe-Pause
  und die Beschneidung seines Sohnes schnell von der halben Familie verhand
 elt. Damit nicht genug\, will Tochter Ranya allen ihren neuen Freund vorst
 ellen: Maximilian – hölzern\, humorlos\, altklug. Und dann mischt sich 
 auch noch Nachbar Jörg ein\, der aus der NS-Vergangenheit seiner Familie 
 kühne Parallelen zu heutigen Fluchtbiografien zieht. Mit waghalsigem Humo
 r\, Mut zum Klischee und ohne Scheu vor Blasphemie findet der Autor Ibrahi
 m Amir die Zutaten für die perfekte Familienkomödie: Guter Wille\, unaus
 gesprochene Vorwürfe und Grundsatzdiskussionen theatralen Ausmaßes. Und:
  einige kluge Überlegungen zu der Frage\, wer was sagen darf.\nFür diese
  Fahrt gilt: Wer mit dem Stadttheaterbus mitfahren will\, kann bis 14 Tage
  vor der Aufführung Karten inklusive Busfahrt in den Rathäusern oder in 
 den Tourismusbüros der einzelnen Städte kaufen.\nAm Aufführungstag fäh
 rt der Bus um 18:05 Uhr in Laubach (Sparkasse)\, um 18:15 Uhr in Villingen
  (Volksbank\, Hochstraße 5)\, um 18:25 Uhr in Hungen (Rathaus)\, um 18:35
  Uhr in Langsdorf (Haltestelle Licher Pforte)\, um 18:45 Uhr in Lich (Halt
 estelle Heinrich- Neeb-Straße) und um 18:50 Uhr an der Haltestelle Garben
 teicher Straße ab. Karten für diese Theaterfahrt erhalten Sie ab sofort 
 zu 30\,50 € (PG 2) sowie 34\,50 € (PG 1) bei der Stadtverwaltung Hunge
 n (Tel. 06402-850)\, dem Laubacher Kultur- und Tourismusbüro (06405-921-3
 72) und dem Tourismusbüro Lich (06404-806-100).
ATTACH;FMTTYPE=image/jpeg:https://laubach-online.de/wp-content/uploads/202
 5/09/Theaterbus-25-26-8-pdf.jpg
CATEGORIES:Konzerte
LOCATION:Sparkassen Parkplatz\, August Krieger Straße 19\, Laubach\, 35321
 \, Deutschland
GEO:50.541442;8.986713
X-APPLE-STRUCTURED-LOCATION;VALUE=URI;X-ADDRESS=August Krieger Straße 19\,
  Laubach\, 35321\, Deutschland;X-APPLE-RADIUS=100;X-TITLE=Sparkassen Parkp
 latz:geo:50.541442,8.986713
END:VEVENT
END:VCALENDAR