BEGIN:VCALENDAR
VERSION:2.0
PRODID:-//wp-events-plugin.com//7.2.1//EN
TZID:Europe/Berlin
X-WR-TIMEZONE:Europe/Berlin
BEGIN:VEVENT
UID:1444@laubach-online.de
DTSTART:20251116T180000Z
DTEND:20251116T191500Z
DTSTAMP:20250925T132731Z
URL:https://laubach-online.de/events/der-stadttheater-bus-bringt-sie-zu-de
 m-schauspiel-die-rote-zora-nach-dem-gleichnamigen-roman-von-kurt-held/
SUMMARY:Der Stadttheater-Bus bringt Sie zu dem Schauspiel „Die rote Zora
 “ nach dem gleichnamigen Roman von Kurt Held
DESCRIPTION:Am Sonntag\, 16. November 2025 fährt der Theaterbus zu dem Sch
 auspiel „Die rote Zora“ nach dem gleichnamigen Roman\nvon Kurt Held //
  ab 6 Jahren Die Vorstellung beginnt um 16:00 Uhr. Daurer: 1 Stunde und 15
  Minuten ohne Pause\n„Die grösten Abenteuer beginnen oft mit einem einz
 igen mutagen Schritt.“\nDer zwolfjährige Branko verliert seine Mutter u
 nd sein Zuhause. Bald verdächtig man ihn des Diebstahls und sperrt ihn ei
 n. Doch\, Zora\, das Mädchen mit den feuerroten Haaren\, befreit ihn. Sie
  nimmt ihn in ihre Bande auf\, die in einer alten Burg haust. . Zora und i
 hre Bande versuchen ihren Platz in der Stadt zu finden\, auch wenn sie von
  den Bürger*innen und ihren Kindern immer wieder ausgeschlossen werden. D
 ie Bande hat aber auch Verbündete in der Stadt\, wie den Bäcker Curcin\,
  der ihnen regelmäßig Brot vom Vortag überlässt\, oder den alten Fisch
 er Gorian\, in dessen Bucht die Kinder immer will-kommen sind. Gemeinsam s
 chlagen sich die Kinder durchs Leben\, genießen die Freiheit und halten a
 uch in Hunger und Not fest zusammen. Nichts kann ihre Freundschaft erschü
 ttern – bis die Bewohner*innen des Küstenstädtchens sich dazu entschli
 eßen\, dem wilden Treiben ein Ende zu setzen und Zora und ihre Bande hint
 er Gitter zu bringen. Doch die ergeben sich nicht ohne Widerstand.\nAuffü
 hrungen: 29.11.2025 „Prinz Friedrich von Homburg“ Schauspiel von Heinr
 ich von Kleist // ab 16 Jahren\; 19.12.2025 „The Addams Family“ Musica
 l- Comedy\, Familienstück\, Ab 12 Jahren\; 23.01.2026 „Dumme Jahre“ S
 chauspiel von Thomas Freyer\; 20.02.2026 „La Traviata“ Oper von Giusep
 pe Verdi\; 07.03.2026 „Martha“ Romantisch-komische In den kommenden Wo
 chen und Monaten fahren die heaterbusse zu folgenden Oper in vier Akten vo
 n Friedrich von Flotow\; 02.04.2026 „Frau Yamamoto ist noch da“ Schaus
 piel von Dea Loher\; 07.05.2026 „Gärtnerin aus Liebe“ Dramma giocoso 
 in drei Akten von Wolfgang Amadeus Mozart // Libretto von Giovanni Petrose
 llini.\nFür diese Fahrt gilt: Wer mit dem Stadttheaterbus mitfahren will\
 , kann bis 14 Tage vor der Aufführung Karten inklusive Busfahrt in den Ra
 thäusern oder in den Tourismusbüros der einzelnen Städte kaufen.\nAm Au
 fführungstag fährt der Bus um 14:35 Uhr in Laubach (Sparkasse)\, um 14:4
 5 Uhr in Villingen (Volksbank\, Hochstraße 5)\, um 14:55 Uhr in Hungen (R
 athaus)\, um 15:05 Uhr in Langsdorf (Haltestelle Licher Pforte)\, um 15:15
  Uhr in Lich (Haltestelle Heinrich- Neeb-Straße) und um 15:20 Uhr an der 
 Haltestelle Garbenteicher Straße ab.\nKarten für diese Theaterfahrt erha
 lten Sie ab sofort zu 21\,50 € (PG 2) sowie 25\,00 € (PG 1) und Kinder
  unter 14 Jahre 15\,00 € bei der Stadtverwaltung Hungen (Tel. 06402-850)
 \, dem Laubacher Kultur- und Tourismusbüro (06405-921-372) und dem Touris
 musbüro Lich (06404-806-100).
ATTACH;FMTTYPE=image/jpeg:https://laubach-online.de/wp-content/uploads/202
 5/09/Theaterbus-25-26-9-pdf.jpg
CATEGORIES:Konzerte
LOCATION:Sparkassen Parkplatz\, August Krieger Straße 19\, Laubach\, 35321
 \, Deutschland
GEO:50.541442;8.986713
X-APPLE-STRUCTURED-LOCATION;VALUE=URI;X-ADDRESS=August Krieger Straße 19\,
  Laubach\, 35321\, Deutschland;X-APPLE-RADIUS=100;X-TITLE=Sparkassen Parkp
 latz:geo:50.541442,8.986713
END:VEVENT
END:VCALENDAR