BEGIN:VCALENDAR
VERSION:2.0
PRODID:-//wp-events-plugin.com//7.2.1//EN
TZID:Europe/Berlin
X-WR-TIMEZONE:Europe/Berlin
BEGIN:VEVENT
UID:1438@laubach-online.de
DTSTART:20260123T180500Z
DTEND:20260123T223000Z
DTSTAMP:20250925T082152Z
URL:https://laubach-online.de/events/der-stadttheater-bus-bringt-sie-zu-de
 m-schauspiel-dumme-jahre-von-thomas-freyer/
SUMMARY:Der Stadttheater-Bus bringt Sie zu dem Schauspiel  „Dumme Jahre
 “ von Thomas Freyer
DESCRIPTION:Am Freitag\, 23. Januar 2026 fährt der Theaterbus zu „Dumme 
 Jahre“ – Schauspiel von Thomas Freyer.\nDie Vorstellung beginnt um 19:
 30 Uhr. „Machen wir wirklich das Beste aus allem? Die Zeit rast. Wir tun
  und machen. Ein halbes Leben fliegt vorbei. Aber. Ist es das Beste?“ Re
 gine lebt mit ihrem Mann Wolfgang und den Kindern in einer Kleinstadt in d
 er DDR. Sie lieben sich\, sie halten zusammen und finden auch nach kurzer 
 Trennung wieder zueinander\, trotz unterschiedlicher Haltungen zum Soziali
 smus. Das Jahr 1990 bringt für Wolfgang die lang ersehnte Freiheit\, wäh
 rend sich Regine völlig neu orientieren muss. Wie soll ein Neuanfang auss
 ehen\, wenn alles Gewohnte und Alltägliche plötzlich wegbricht und für 
 ungültig erklärt wird? Ihre Vergangenheit scheint sich aufzulösen\, die
  Zeit rast\, ein halbes Leben fliegt vorbei. Und als Wolfgang an Demenz er
 krankt\, fragt sich Regine: Haben wir wirklich das Beste aus allem gemacht
 ? Thomas Freyer erzählt die Geschichte einer Frau\, mit deren persönlich
 em Alltag sich fast beiläufig historische Umwälzungen verknüpfen. Nach 
 „Der Staat gegen Fritz Bauer“ und „Fabian oder Der Gang vor die Hund
 e“ beschäftigt sich Regisseurin Jenke Nordalm mit einem weiteren Stück
  Zeitgeschichte und dessen Auswirkungen auf unsere Gegenwart.\n\nFür dies
 e Fahrt gilt: Wer mit dem Stadttheaterbus mitfahren will\, kann bis 14 Tag
 e vor der Aufführung Karten inklusive Busfahrt in den Rathäusern oder in
  den Tourismusbüros der einzelnen Städte kaufen. In den kommenden Wochen
  und Monaten fährt der Theaterbus zu folgenden Aufführungen:20.02.2026 
 „La Traviata“ Oper von Giuseppe Verdi\; 07.03.2026 „Martha“ Romant
 isch-komische Oper in vier Akten von Friedrich von Flotow\; 02.04.2026 „
 Frau Yamamoto ist noch da“ Schauspiel von Dea Loher\; 07.05.2026 „Gär
 tnerin aus Liebe“ Dramma giocoso in drei Akten von Wolfgang Amadeus Moza
 rt // Libretto von Giovanni Petrosellini. 29.05.2026 „Das Opferfest“ S
 chauspiel von Ibrahim Amir.\nAm Aufführungstag fährt der Bus um 18:05 Uh
 r in Laubach (Sparkasse)\, um 18:15 Uhr in Villingen (Volksbank\, Hochstra
 ße 5)\, um 18:25 Uhr in Hungen (Rathaus)\, um 18:35 Uhr in Langsdorf (Hal
 testelle Licher Pforte)\, um 18:45 Uhr in Lich (Haltestelle Heinrich- Neeb
 -Straße) und um 18:50 Uhr an der Haltestelle Garbenteicher Straße ab. Ka
 rten für diese Theaterfahrt erhalten Sie ab sofort zu \,30\,50 € (PG 2)
  sowie 34\,50 € (PG 1) bei der Stadtverwaltung Hungen (Tel. 06402-850)\,
  dem Laubacher Kultur- und Tourismusbüro (06405-921-372) und dem Tourismu
 sbüro Lich (06404-806-100).
ATTACH;FMTTYPE=image/jpeg:https://laubach-online.de/wp-content/uploads/202
 5/09/Theaterbus-25-26-3-pdf.jpg
CATEGORIES:Konzerte
LOCATION:Sparkassen Parkplatz\, August Krieger Straße 19\, Laubach\, 35321
 \, Deutschland
GEO:50.541442;8.986713
X-APPLE-STRUCTURED-LOCATION;VALUE=URI;X-ADDRESS=August Krieger Straße 19\,
  Laubach\, 35321\, Deutschland;X-APPLE-RADIUS=100;X-TITLE=Sparkassen Parkp
 latz:geo:50.541442,8.986713
END:VEVENT
END:VCALENDAR