BEGIN:VCALENDAR
VERSION:2.0
PRODID:-//wp-events-plugin.com//7.2.1//EN
TZID:Europe/Berlin
X-WR-TIMEZONE:Europe/Berlin
BEGIN:VEVENT
UID:1441@laubach-online.de
DTSTART:20260613T180500Z
DTEND:20260613T223000Z
DTSTAMP:20260305T093300Z
URL:https://laubach-online.de/events/der-stadttheater-bus-bringt-sie-zu-de
 m-schauspiel-frau-yamamoto-ist-noch-da-von-dea-loher/
SUMMARY:Der Stadttheater-Bus bringt Sie zu dem Schauspiel „Frau Yamamoto 
 ist noch da“ von Dea Loher
DESCRIPTION:Am Samstag\, 13. Juni 2026 fährt der Theaterbus zu dem Schausp
 iel „Frau Yamamoto ist noch da“ von Dea Loher. Die Vorstellung beginnt
  um 19:30 Uhr. „Genau so isses. Genauso fühlt es sich an“ Es sind ein
 fache Träume: eine erfüllte Beziehung\, ein kleines eigenes Lokal\, ein 
 ganz Bisschen mehr Geld\, als es zum Leben braucht\, etwas Anerkennung\, N
 ähe\, ab und an ein romantischer Abend und vorsichtig gelebte Leidenschaf
 t. Geträumt werden sie von Menschen\, die wir zu kennen glauben. Sie tref
 fen sich im Treppenhaus\, im Restaurant\, beim Angeln. Wie soll man leben?
  Wie will man lieben? Wie begegnet man der eigenen Vergangenheit? Wie den 
 Sorgen um die Zukunft und den Unwägbarkeiten der Gegenwart? Dea Loher ist
  eine der wichtigsten zeitgenössischen Theaterautor*innen. Sie wurde mit 
 zahlreichen Preisen ausgezeichnet\, ihre Stücke in über 15 Sprachen übe
 rsetzt. Nach einer längeren Schreibpause hat sie mit „Frau Yamamoto ist
  noch da“ ein neues Stück vorgelegt. Mit skurrilem Humor\, poetischer L
 eichtigkeit und einem liebevollen Blick auf das Unvollkommene webt Dea Loh
 er ein zartes Geflecht der Menschen und ihrer Geschichten. Sie erschafft d
 amit ein kluges\, schillerndes Bild der Gesellschaft unserer Zeit.\nFür d
 iese Fahrt gilt: Wer mit dem Stadttheaterbus mitfahren will\, kann bis 14 
 Tage vor der Aufführung Karten inklusive Busfahrt in den Rathäusern oder
  in den Tourismusbüros der einzelnen Städte kaufen.\nAm Aufführungstag 
 fährt der Bus um 18:05 Uhr in Laubach (Sparkasse)\, um 18:15 Uhr in Villi
 ngen (Volksbank\, Hochstraße 5)\, um 18:25 Uhr in Hungen (Rathaus)\, um 1
 8:35 Uhr in Langsdorf (Haltestelle Licher Pforte)\, um 18:45 Uhr in Lich (
 Haltestelle Heinrich- Neeb-Straße) und um 18:50 Uhr an der Haltestelle Ga
 rbenteicher Straße ab. Karten für diese Theaterfahrt erhalten Sie ab sof
 ort zu 30\,50 € (PG 2) sowie 34\,50 € (PG 1) bei der Stadtverwaltung H
 ungen (Tel. 06402-850)\, dem Laubacher Kultur- und Tourismusbüro (06405-9
 21-372) und dem Tourismusbüro Lich (06404-806-100).
ATTACH;FMTTYPE=image/jpeg:https://laubach-online.de/wp-content/uploads/202
 5/09/Theaterbus-25-26-6-pdf.jpg
CATEGORIES:Konzerte
LOCATION:Sparkassen Parkplatz\, August Krieger Straße 19\, Laubach\, 35321
 \, Deutschland
GEO:50.541442;8.986713
X-APPLE-STRUCTURED-LOCATION;VALUE=URI;X-ADDRESS=August Krieger Straße 19\,
  Laubach\, 35321\, Deutschland;X-APPLE-RADIUS=100;X-TITLE=Sparkassen Parkp
 latz:geo:50.541442,8.986713
END:VEVENT
END:VCALENDAR