BEGIN:VCALENDAR
VERSION:2.0
PRODID:-//wp-events-plugin.com//7.2.1//EN
TZID:Europe/Berlin
X-WR-TIMEZONE:Europe/Berlin
BEGIN:VEVENT
UID:1440@laubach-online.de
DTSTART:20260307T180500Z
DTEND:20260307T223000Z
DTSTAMP:20250925T082421Z
URL:https://laubach-online.de/events/der-stadttheater-bus-bringt-sie-zu-ma
 rtha-romantisch-komische-oper-in-vier-akten-von-friedrich-von-flotow/
SUMMARY:Der Stadttheater-Bus bringt Sie zu „Martha“ - Romantisch-komisc
 he Oper in vier Akten von Friedrich von Flotow
DESCRIPTION:Am Samstag\, 07.März 2026 fährt der Theaterbus zu der Oper de
 r Romantisch-komische „Martha“ in vier Akten von Friedrich von Flotow.
  Die Vorstellung beginnt um 19:30 Uhr.\n„GATTE: Donnerstag ist Martha. G
 ATTIN: Nee\, Martha kommt heute ... KASSIERER: Heute ist „Sieg-fried“G
 ATTE (zum Kassierer): Martha ist meine Schwägerin ... KASSIERER: Ach? Lor
 iot Lady Harriet Durham gibt sich aus Langeweile als einfache Bedienstete 
 aus und setzt dadurch eine Ket-te von Missverständnissen in Gang. Dabei g
 erät sie in eine Liebesgeschichte mit Lyonel\, dem Sohn ei-ner einst roya
 len Familie\, dem sie beinahe das Herz bricht. Dieses Verwechslungsspiel m
 it romantisch-komödiantischer Handlung erinnert bis heute an Hollywood-Ko
 mödien. Die Oper besticht durch be-rühmte Arien wie „Ach\, so fromm“
  und „Letzte Rose“ sowie durch kunstvoll gestaltete Ensembleszenen. 
 „Martha“ war eine der meistgespielten Opern des 19. Jahrhunderts und g
 ilt als Flotows größter Erfolg. Seine Musik ist beeinflusst von der Opé
 ra Comique\, von Jacques Offenbach\, aber auch von Gaetano Donizetti. Seit
  ihrer Uraufführung 1847 begeistert die effektvolle Orchesterbehandlung d
 as Publikum.\nFür diese Fahrt gilt: Wer mit dem Stadttheaterbus mitfahren
  will\, kann bis 14 Tage vor der Aufführung Karten inklusive Busfahrt in 
 den Rathäusern oder in den Tourismusbüros der einzelnen Städte kaufen.\
 nIn den kommenden Wochen und Monaten fährt der Theaterbus zu folgenden Au
 fführungen: Jahre)\;02.04.2026 „Frau Yamamoto ist noch da“ Schauspiel
  von Dea Loher\; 07.05.2026 „Gärtnerin aus Liebe“ Dramma giocoso in d
 rei Akten von Wolfgang Amadeus Mozart // Libretto von Giovanni Petrosellin
 i. 29.05.2026 „Das Opferfest“ Schauspiel von Ibrahim Amir.\nAm Auffüh
 rungstag fährt der Bus um 18:05 Uhr in Laubach (Sparkasse)\, um 18:15 Uhr
  in Villingen (Volksbank\, Hochstraße 5)\, um 18:25 Uhr in Hungen (Rathau
 s)\, um 18:35 Uhr in Langsdorf (Haltestelle Licher Pforte)\, um 18:45 Uhr 
 in Lich (Haltestelle Heinrich- Neeb-Straße) und um 18:50 Uhr an der Halte
 stelle Garbenteicher Straße ab. Karten für diese Theaterfahrt erhalten S
 ie ab sofort zu 41\,00 € (PG 2) sowie 45\,00 € (PG 1) bei der Stadtver
 waltung Hungen (Tel. 06402-850)\, dem Laubacher Kultur- und Tourismusbüro
  (06405-921-372) und dem Tourismusbüro Lich (06404-806-100).
ATTACH;FMTTYPE=image/jpeg:https://laubach-online.de/wp-content/uploads/202
 5/09/Theaterbus-25-26-5-pdf.jpg
CATEGORIES:Konzerte
LOCATION:Sparkassen Parkplatz\, August Krieger Straße 19\, Laubach\, 35321
 \, Deutschland
GEO:50.541442;8.986713
X-APPLE-STRUCTURED-LOCATION;VALUE=URI;X-ADDRESS=August Krieger Straße 19\,
  Laubach\, 35321\, Deutschland;X-APPLE-RADIUS=100;X-TITLE=Sparkassen Parkp
 latz:geo:50.541442,8.986713
END:VEVENT
END:VCALENDAR