BEGIN:VCALENDAR
VERSION:2.0
PRODID:-//wp-events-plugin.com//7.2.1//EN
TZID:Europe/Berlin
X-WR-TIMEZONE:Europe/Berlin
BEGIN:VEVENT
UID:1437@laubach-online.de
DTSTART:20251219T180500Z
DTEND:20251219T223000Z
DTSTAMP:20250925T081926Z
URL:https://laubach-online.de/events/der-stadttheater-bus-bringt-sie-zu-th
 e-addams-family-musical-comedy/
SUMMARY:Der Stadttheater-Bus bringt Sie zu „The Addams Family“ – Musi
 cal-Comedy
DESCRIPTION:Am Freitag\, 19.Dezember 2025 fährt der Theaterbus zu „The A
 ddams Family“ – Musical-Comedy\, Familienstück\, ab 12 Jahren.\nDie V
 orstellung beginnt um 19:30 Uhr.\n„The Addams Family“ Musical-Comedy\,
  Familienstück\, Ab 12 Jahren „Was für die Spinne normal ist\, ist fü
 r die Fliege eine Katastrophe.“\nSchöner gruselt es wohl nirgendwo\, al
 s in der Villa der Familie Addams. Ein todeskalter Hauch weht durch die Ma
 uern\, metaphysische Experimente prägen den Alltag\, tote Verwandte komme
 n zu Besuch und ein körperloses Händchen tanzt durch den Salon. Statt Pl
 üschtiere und Puppenhaus im Regal steht eine Streckbank im Kinderzimmer\,
  wo Tochter Wednesday ihren melancholisch dunklen Gedanken nachhängt. Als
  die sich in einen ganz normalen jungen Mann verliebt\, droht das schräge
  Familienleben auf‘s gerade\, bürgerliche Gleis zu geraten. Ein Unheil\
 , das verhindert werden muss! Denn wenn der Grusel zur Normalität geworde
 n ist\, kann das Gewöhnliche nur eines sein: der absolute Horror! Ursprü
 nglich war „The Addams Family“ ein Comic\, wurde dann zur Kultserie un
 d ist nun ein Musical. Ein schauriges Vergnügen für alle ab 12 Jahren.\n
 Für diese Fahrt gilt: Wer mit dem Stadttheaterbus mitfahren will\, kann b
 is 14 Tage vor der Aufführung Karten inklusive Busfahrt in den Rathäuser
 n oder in den Tourismusbüros der einzelnen Städte kaufen.\nIn den kommen
 den Wochen und Monaten fährt der Theaterbus zu folgenden Aufführungen: J
 ahre)\; 23.01.2026 „Dumme Jahre“ Schauspiel von Thomas Freyer\; 20.02.
 2026 „La Traviata“ Oper von Giuseppe Verdi\; 07.03.2026 „Martha“ R
 omantisch-komische Oper in vier Akten von Friedrich von Flotow\; 02.04.202
 6 „Frau Yamamoto ist noch da“ Schauspiel von Dea Loher\; 07.05.2026 
 „Gärtnerin aus Liebe“ Dramma giocoso in drei Akten von Wolfgang Amade
 us Mozart // Libretto von Giovanni Petrosellini. 29.05.2026 „Das Opferfe
 st“ Schauspiel von Ibrahim Amir.\nAm Aufführungstag fährt der Bus um 1
 8:05 Uhr in Laubach (Sparkasse)\, um 18:15 Uhr in Villingen (Volksbank\, H
 ochstraße 5)\, um 18:25 Uhr in Hungen (Rathaus)\, um 18:35 Uhr in Langsdo
 rf (Haltestelle Licher Pforte)\, um 18:45 Uhr in Lich (Haltestelle Heinric
 h- Neeb-Straße) und um 18:50 Uhr an der Haltestelle Garbenteicher Straße
  ab. Karten für diese Theaterfahrt erhalten Sie ab sofort zu 41\,00 € (
 PG 2) sowie 45\,00 € (PG 1) bei der Stadtverwaltung Hungen (Tel. 06402-8
 50)\, dem Laubacher Kultur- und Tourismusbüro (06405-921-372) und dem Tou
 rismusbüro Lich (06404-806-100).
ATTACH;FMTTYPE=image/jpeg:https://laubach-online.de/wp-content/uploads/202
 5/09/Theaterbus-25-26-2-pdf.jpg
CATEGORIES:Konzerte
LOCATION:Sparkassen Parkplatz\, August Krieger Straße 19\, Laubach\, 35321
 \, Deutschland
GEO:50.541442;8.986713
X-APPLE-STRUCTURED-LOCATION;VALUE=URI;X-ADDRESS=August Krieger Straße 19\,
  Laubach\, 35321\, Deutschland;X-APPLE-RADIUS=100;X-TITLE=Sparkassen Parkp
 latz:geo:50.541442,8.986713
END:VEVENT
END:VCALENDAR