BEGIN:VCALENDAR
VERSION:2.0
PRODID:-//wp-events-plugin.com//7.2.1//EN
TZID:Europe/Berlin
X-WR-TIMEZONE:Europe/Berlin
BEGIN:VEVENT
UID:1434@laubach-online.de
DTSTART:20251010T180500Z
DTEND:20251010T223000Z
DTSTAMP:20250925T080437Z
URL:https://laubach-online.de/events/der-stadttheater-bus-startet-in-der-s
 aison-25-26-zu-der-oper-lelisir-damore-der-liebestrank/
SUMMARY:Der Stadttheater-Bus startet in der Saison 25/26 zu der Oper „L
 ’elisir d’amore (Der Liebestrank)“
DESCRIPTION:Am Freitag\, 10. Oktober 2025 fährt der Theaterbus zu „L’e
 lisir d’amore (Der Liebestrank)“ Oper von Gaetano Donizetti // Text vo
 n Felice Romani nach August Eugène Scribes Libretto zur Oper „Le Philtr
 e“ von Daniel François Esprit Auber - In italienischer Sprache mit deut
 schen Übertiteln.\nDie Vorstellung beginnt um 19:30 Uhr.\n\n„Liebe zu v
 erbreiten ist heutzutage eine gefährliche Angelegenheit.“\nNemorino ist
  bis über beide Ohren in die wohlhabende Gutsbesitzerin Adina verliebt\, 
 doch sie scheint ihm unerreichbar. Plötzlich taucht der ominöse Quacksal
 ber Dulcamara auf und verspricht Abhilfe durch einen vermeintlichen Liebes
 trank. Damit setzt er eine aberwitzige Achterbahn der Gefühle in Gang: Ge
 würzt mit je einer Prise Alkohol\, brütender Sonne\, unglaublicher Zufä
 lle\, subtiler Intrigen und einer unverhofften Erbschaft zieht der Trank s
 chließlich die ganze Gesellschaft in seinen Bann. Mit ihrer 1832 uraufgef
 ührten musikalischen Komödie schufen Gaetano Donizetti und Librettist Fe
 lice Romani nicht nur eine urkomische und zugleich anrührende Liebesgesch
 ichte\, sondern auch ein Lehrstück über Verführungskunst und Manipulati
 on.\nFür diese Fahrt gilt: Wer mit dem Stadttheaterbus mitfahren will\, k
 ann bis 14 Tage vor der Aufführung Karten inklusive Busfahrt in den Rath
 äusern oder in den Tourismusbüros der einzelnen Städte kaufen.\nIn den 
 kommenden Wochen und Monaten fahren die Theaterbusse zu folgenden Aufführ
 ungen: 25.10.2025 „Wintergreen for President“ Musical - Musik und Gesa
 ngstexte von George und Ira Gershwin\,Buch von George S. Kaufman und Morri
 e Ryskind. Am 16.11.2025 „Die rote Zora und ihre Bande“ (Schauspiel na
 ch dem Kinderbuch von Kurt Held / Familienstück | für Kinder und Jugendl
 iche ab 6 Jahre)\; 29.11.2025 „Prinz Friedrich von Homburg“ Schauspiel
  von Heinrich von Kleist // ab 16 Jahren\; 19.12.2025 „The Addams Family
 “ Musical-Comedy\, Familienstück\, Ab 12 Jahren\; 23.01.2026 „Dumme J
 ahre“ Schauspiel von Thomas Freyer\; 20.02.2026 „La Traviata“ Oper v
 on Giuseppe Verdi\; 07.03.2026 „Martha“ Romantisch-komische Oper in vi
 er Akten von Friedrich von Flotow\; 02.04.2026 „Frau Yamamoto ist noch d
 a“ Schauspiel von Dea Loher\; 07.05.2026 „Gärtnerin aus Liebe“ Dram
 ma giocoso in drei Akten von Wolfgang Amadeus Mozart // Libretto von Giova
 nni Petrosellini. 29.05.2026 „Das Opferfest“ Schauspiel von Ibrahim Am
 ir.\nAm Aufführungstag fährt der Bus um 18:05 Uhr in Laubach (Sparkasse)
 \, um 18:15 Uhr in Villingen (Volksbank\, Hochstraße 5)\, um 18:25 Uhr in
  Hungen (Rathaus)\, um 18:35 Uhr in Langsdorf (Haltestelle Licher Pforte)\
 , um 18:45 Uhr in Lich (Haltestelle Heinrich-Neeb-Straße) und um 18:50 Uh
 r an der Haltestelle Garbenteicher Straße ab.\nKarten für diese Theaterf
 ahrt erhalten Sie ab sofort zu 41\,00 € (PG 2) sowie 45\,00 € (PG 1) b
 ei der Stadtverwaltung Hungen (Tel. 06402-850)\, dem Laubacher Kultur- und
  Tourismusbüro (06405-921-321) und dem Tourismusbüro Lich (06404-806-100
 ).
ATTACH;FMTTYPE=image/jpeg:https://laubach-online.de/wp-content/uploads/202
 5/09/Theaterbus-25-26-pdf.jpg
CATEGORIES:Konzerte
LOCATION:Sparkassen Parkplatz\, August Krieger Straße 19\, Laubach\, 35321
 \, Deutschland
GEO:50.541442;8.986713
X-APPLE-STRUCTURED-LOCATION;VALUE=URI;X-ADDRESS=August Krieger Straße 19\,
  Laubach\, 35321\, Deutschland;X-APPLE-RADIUS=100;X-TITLE=Sparkassen Parkp
 latz:geo:50.541442,8.986713
END:VEVENT
END:VCALENDAR