BEGIN:VCALENDAR
VERSION:2.0
PRODID:-//wp-events-plugin.com//7.2.1//EN
TZID:Europe/Berlin
X-WR-TIMEZONE:Europe/Berlin
BEGIN:VEVENT
UID:979@laubach-online.de
DTSTART:20240621T180000Z
DTEND:20240622T210000Z
DTSTAMP:20240327T095431Z
URL:https://laubach-online.de/events/deutschland-geht-waldbaden-und-laubac
 h-geht-mit-geht-mit/
SUMMARY:Deutschland geht Waldbaden und Laubach geht mit!
DESCRIPTION:Benefiz Event\nWir tun etwas für den Wald.\nBei Deutschland ge
 ht Waldbaden handelt es sich um eine\njährliche bundesweite Benefiz Veran
 staltung deren Erlös in Neupflanzungen führt.\n\nAnmeldung über das Tou
 rimusbüro\n06405-921321\n\ntourist-info@laubach-online.de
ATTACH;FMTTYPE=image/jpeg:https://laubach-online.de/wp-content/uploads/202
 1/02/Fruehlingswaldbaden-.jpg
CATEGORIES:Führungen
LOCATION:Parkplatz Ruheforst Buchwald\, K141\, 35321 Laubach\, Deutschland
GEO:50.543196;9.034923
X-APPLE-STRUCTURED-LOCATION;VALUE=URI;X-ADDRESS=K141\, 35321 Laubach\, Deut
 schland;X-APPLE-RADIUS=100;X-TITLE=Parkplatz Ruheforst Buchwald:geo:50.543
 196,9.034923
END:VEVENT
END:VCALENDAR