BEGIN:VCALENDAR
VERSION:2.0
PRODID:-//wp-events-plugin.com//7.2.1//EN
TZID:Europe/Berlin
X-WR-TIMEZONE:Europe/Berlin
BEGIN:VEVENT
UID:1353@laubach-online.de
DTSTART:20250621T180000Z
DTEND:20250621T210000Z
DTSTAMP:20250505T124707Z
URL:https://laubach-online.de/events/deutschland-geht-waldbaden-und-laubac
 h-geht-mit/
SUMMARY:Deutschland geht Waldbaden und Laubach geht mit
DESCRIPTION:Bereits zum 6. Mal findet deutschlandweit das Benefiz-Waldbaden
  zur Sommersonnenwende statt unter dem Motto “Gemeinsam lassen wir Bäum
 e wachsen” .\n\nDabei tauchen wir achtsam in den Laubacher Forst mit sei
 nen vielen alten Buchen ein und lassen uns von Ihrer Wuchsform und der Bes
 onderheit des längsten Tages des Jahres verzaubern.\n\nDas bewusste Erleb
 en und Empfinden der Natur mit Ritualen zur Sommersonnenwende und sanfte S
 hinrin-Yoku Bewegungsübungen\, die du später in deinen Alltag integriere
 n kannst\, runden dieses besondere Waldbad ab. Spüre die Kraft der Bäume
 \, des Grüns und die Magie des Laubacher Forstes zu dieser Jahreszeit.\n\
 nDas Ziel dieser Veranstaltung ist\, dass wir gemeinsam mit anderen Mensch
 en deutschlandweit ein Zeichen setzen wollen. Ein Zeichen dafür\, wie wic
 htig das Ökosystem Wald für die Menschen ist. Der Wald erfüllt viele wi
 chtige Funktionen – er reinigt und kühlt die Luft\, er speichert Wasser
 \, er produziert Sauerstoff und schenkt dem Menschen Erholung\, Entspannun
 g und Regeneration. Der Wald ist eine kostbare Ressource zum Krafttanken u
 nd Abschalten. Wahrscheinlich war noch nie so klar wie jetzt\, dass wir un
 sere Wälder brauchen. Deswegen möchten wir\, als professionelle Anbieter
  von Waldbaden und als Teil der Wald-Community\, den längsten Tag des Jah
 res zu einem Tag des Waldbadens an den unterschiedlichsten Waldplätzen in
  Deutschland machen. Jeder für sich mit seiner Gruppe und doch gemeinsam 
 verbringen wir Zeit im Wald\, zeigen dadurch unsere Verbundenheit und Wert
 schätzung mit ihm und mit allen\, die in und mit der Natur arbeiten. Und 
 dies in diesem Jahr bereits zum sechsten Mal!\n\nWir möchten zum Erhalt d
 er Wälder beitragen und spenden deshalb in Hessen den Erlös aus dieser d
 eutschlandweiten Benefiz-Veranstaltung an das Bergwaldprojekt e. V. Weiter
 e Informationen findest du unter https://deutschland-geht-waldbaden.de/\n\
 nDu kannst ab einer Spende von € 25\,00 dabei sein.\n\nZu dieser Veranst
 altung können keine Gutscheine eingelöst werden.\n\nLauflänge: ca. 3 km
 \nAnspruch: mittel\nKonstitution: gut zu Fuß und beweglich\nHunde trüben
  die Erfahrung von Frauchen und Herrchen und dürfen zuhause bleiben\n\nBi
 tte bring ein Sitzkissen mit\, trage gute Schuhe\, Insektenschutz bei Beda
 rf\, evtl. Regenkleidung.\n\nEs liegt ein Gestattungsvertrag für die Vera
 nstaltung vor. Die Teilnehmer betreten den Wald auf eigene Verantwortung\,
  die Veranstalterin übernimmt keine Gewähr. Ich behalte mir vor\, die Ve
 ranstaltung bei Sturm\, Blitz oder starkem Dauerregen kurzfristig zu versc
 hieben.
ATTACH;FMTTYPE=image/jpeg:https://laubach-online.de/wp-content/uploads/202
 5/05/Deutschland-geht-Waldbaden.png
CATEGORIES:Führungen
LOCATION:Parkplatz Ruheforst Buchwald\, K141\, 35321 Laubach\, Deutschland
GEO:50.543196;9.034923
X-APPLE-STRUCTURED-LOCATION;VALUE=URI;X-ADDRESS=K141\, 35321 Laubach\, Deut
 schland;X-APPLE-RADIUS=100;X-TITLE=Parkplatz Ruheforst Buchwald:geo:50.543
 196,9.034923
END:VEVENT
END:VCALENDAR