BEGIN:VCALENDAR
VERSION:2.0
PRODID:-//wp-events-plugin.com//7.2.1//EN
TZID:Europe/Berlin
X-WR-TIMEZONE:Europe/Berlin
BEGIN:VEVENT
UID:980@laubach-online.de
DTSTART:20240404T200000Z
DTEND:20240404T220000Z
DTSTAMP:20240327T122058Z
URL:https://laubach-online.de/events/deutschrapper-kid-soul-kommt-nach-lau
 bach-live-braumanufaktur-laubach/
SUMMARY:Deutschrapper Kid Soul kommt nach Laubach - Live Braumanufaktur Lau
 bach
DESCRIPTION:Laubach\, Gerhart-Hauptmann-Straße 13\, 35321 Laubach\, Deutsc
 hland\n\nÜber die Veranstaltung:\nFolge einfach dem Link hier\, um einen 
 Tisch zu reservieren.\n\nhttps://www.braumanufaktur-laubach.de/reservierun
 g\n\nKid Soul findet ihr auch auf Instagram:\n\nhttps://www.instagram.com/
 kidsouloriginal
ATTACH;FMTTYPE=image/jpeg:https://laubach-online.de/wp-content/uploads/202
 4/03/Kid-Soul.jpg
CATEGORIES:Konzerte
LOCATION:https://www.braumanufaktur-laubach.de/event-details/kid-soul-deuts
 chrap-beim-bier
END:VEVENT
END:VCALENDAR