BEGIN:VCALENDAR
VERSION:2.0
PRODID:-//wp-events-plugin.com//7.2.1//EN
TZID:Europe/Berlin
X-WR-TIMEZONE:Europe/Berlin
BEGIN:VEVENT
UID:1307@laubach-online.de
DTSTART:20250327T190000Z
DTEND:20250327T203000Z
DTSTAMP:20250307T124546Z
URL:https://laubach-online.de/events/die-theater-ag-des-laubach-kollegs-pr
 aesentiert-ein-mordserbe-2/
SUMMARY:Die Theater-AG des Laubach-Kollegs präsentiert "Ein Mordserbe"
DESCRIPTION:Kurz noch dem Tod ihres Ehemanns verstirbt 1987 auch Eva von Li
 lienstern. Da sich die Beiden Verstorbenen nicht durch ihrer Großzügigke
 it ausgezeichnet haben\, rechnet fast jedes ihrer Kinder nun mit einem gro
 ßen Erbteil. Allerdings werden sie im Vorfeld der Testamentseröffnung da
 mit konfrontiert\, dass die Verstorbene kurzfristig eine Änderung ihres l
 etzten Willens verfügt hat: Nur einem der potenziellen Erben soll das ges
 amte Vermögen gehörten.\n\nMöchten Sie Zeuge dieses spannenden Kriminal
 falls werden?\n\nDie Theater-AG freut sich über Ihren Besuch\n\nIm Adrium
  des Laubach Kolleg\nKönigsbergerstraße 2\n35321 Laubach\n\nAm 26. &amp\
 ; 27. März 2025\nEinlass ab 18:30 Uhr
ATTACH;FMTTYPE=image/jpeg:https://laubach-online.de/wp-content/uploads/202
 5/03/TheaterAG.jpeg
CATEGORIES:Konzerte
LOCATION:Laubach-Kolleg\, Königsberger Straße 2\, 35321 Laubach\, Deutsch
 land
GEO:50.539926;8.997675
X-APPLE-STRUCTURED-LOCATION;VALUE=URI;X-ADDRESS=Königsberger Straße 2\, 3
 5321 Laubach\, Deutschland;X-APPLE-RADIUS=100;X-TITLE=Laubach-Kolleg:geo:5
 0.539926,8.997675
END:VEVENT
END:VCALENDAR