BEGIN:VCALENDAR
VERSION:2.0
PRODID:-//wp-events-plugin.com//7.2.1//EN
TZID:Europe/Berlin
X-WR-TIMEZONE:Europe/Berlin
BEGIN:VEVENT
UID:1304@laubach-online.de
DTSTART:20250405T210000Z
DTEND:20250406T030000Z
DTSTAMP:20250226T081032Z
URL:https://laubach-online.de/events/discoabend/
SUMMARY:Discoabend
DESCRIPTION:Discoabend mit Marc Ribak\nEintritt ab 16 Jahren
ATTACH;FMTTYPE=image/jpeg:https://laubach-online.de/wp-content/uploads/202
 5/02/IMG-20250204-WA0011.jpg
CATEGORIES:Märkte &amp; Feste
LOCATION:Dorfgemeinschaftshaus Wetterfeld\, Ruppertsburger Str. 3\, Wetterf
 eld\, 35321\, Deutschland
GEO:50.547523;8.955822
X-APPLE-STRUCTURED-LOCATION;VALUE=URI;X-ADDRESS=Ruppertsburger Str. 3\, Wet
 terfeld\, 35321\, Deutschland;X-APPLE-RADIUS=100;X-TITLE=Dorfgemeinschafts
 haus Wetterfeld:geo:50.547523,8.955822
END:VEVENT
END:VCALENDAR