BEGIN:VCALENDAR
VERSION:2.0
PRODID:-//wp-events-plugin.com//7.2.1//EN
TZID:Europe/Berlin
X-WR-TIMEZONE:Europe/Berlin
BEGIN:VEVENT
UID:1347@laubach-online.de
DTSTART;VALUE=DATE:20250503
DTEND;VALUE=DATE:20250504
DTSTAMP:20250415T073121Z
URL:https://laubach-online.de/events/drehwuermchentour-24-stundenlauf-zu-g
 unsten-der-deutschen-kinderkrebshilfe/
SUMMARY:Drehwürmchentour - 24 Stundenlauf zu Gunsten der Deutschen Kinderk
 rebshilfe
DESCRIPTION:Kinder sind unsere Zukunft Einladung zur Drehwürmchentour Unte
 r dem Motto „Drehwürmchen“ findet am 03.05.2025 ein 24 Stundenlauf au
 f dem Laubacher Sportplatz beim Hallenbad statt.\n\nOb wandern\, laufen\, 
 sackhüpfen\, rückwärtsgehen – wir möchten die Deutsche Kinderkrebshi
 lfe unterstützen.\nUnter medialer Begleitung (Maintower und HR Radio) dre
 hen wir soviele 400 Meter Runden wie wir wollen und können und lassen uns
  dabei von Großeltern\, Eltern\, Freunden und Nachbarn unterstützen und 
 sponsoren. Unsere Spenden können pro Runden oder als Fixspende generiert 
 werden.\n\nKarin Rühl aus Grünberg ist die Initiatorin und führt währe
 nd der gesamten Dauer eine mit blauen Luftballons gezierte Spendenbüchse 
 mit.\nEs kann auch online gespendet werden. Kinder sind unsere Zukunft –
  Deutsche Krebshilfe Online-Spendenaktionen\n\nNatürlich kann auch zu jed
 er anderen Tages-\, Abend-\, Nacht oder Dämmerungszeit eingestiegen werde
 n. Bitte an wettergerechte Kleidung\, Proviant und gute Laune denken.\nDie
  Toiletten sind in der Laubacher Kulturhalle während der Veranstaltung ge
 öffnet. Laßt uns gemeinsam Gutes tun und an Kinder denken\, denen es ges
 undheitlich nicht gut geht!\nWarum ausgerechnet 24 Stunden im Kreis laufen
 ? Nun\, Anfang Juni findet die Wanderveranstaltung „Heidi 222“ statt\;
  eine auf Dauer vermutlich eher monotoner 222 Kilometer langer Marsch auf 
 dem Heideschnuckenweg von Celle nach Hamburg\, welcher Karin Rühl in eine
 r veranschlagten Zeit von 56 Stunden absolvieren möchte. „Es geht sehr 
 flach daher\, landschaftlich gibt es wenig Abwechslung – da scheint mir 
 eine 24 Stunden Wanderung auf einem Sportplatz das perfekte Training zu se
 in – allein macht das natürlich wenig Freude und so hoffe ich auf viele
  Leute\, die mich vor Ort begleiten (gern auch nachts)\n\nWer vorab einen 
 Betrag für jede gelaufene Runde von Karin Rühl benennen möchte kann die
 s sehr gerne unter kruehl@web.de oder unter 01577-2190183 tun. Danke!
ATTACH;FMTTYPE=image/jpeg:https://laubach-online.de/wp-content/uploads/202
 5/03/IMG_20220916_154447-scaled.jpg
CATEGORIES:Sportveranstaltungen
LOCATION:Sport- und Kulturhalle Laubach\, Felix-Klipstein-Weg 23\, Laubach\
 , 35321\, Deutschland
GEO:50.548938;8.987553
X-APPLE-STRUCTURED-LOCATION;VALUE=URI;X-ADDRESS=Felix-Klipstein-Weg 23\, La
 ubach\, 35321\, Deutschland;X-APPLE-RADIUS=100;X-TITLE=Sport- und Kulturha
 lle Laubach:geo:50.548938,8.987553
END:VEVENT
END:VCALENDAR