BEGIN:VCALENDAR
VERSION:2.0
PRODID:-//wp-events-plugin.com//7.2.1//EN
TZID:Europe/Berlin
X-WR-TIMEZONE:Europe/Berlin
BEGIN:VEVENT
UID:1324@laubach-online.de
DTSTART:20250422T180000Z
DTEND:20250422T200000Z
DTSTAMP:20250401T122530Z
URL:https://laubach-online.de/events/elternkurs-starke-eltern-starke-kinde
 r-2/
SUMMARY:Elternkurs "Starke Eltern - starke Kinder"
DESCRIPTION:Der Elternkurs zur Stärkung Ihrer Kinder. Der Verein zur Psych
 osozialen Therapie e.V. und der Kinderschutzbund des Orts- und Kreisverban
 des Gießen bieten im Familienzentrum Alter Bahnhof in Laubach einen achtt
 eiligen Elternkurs an. Im Zusammenleben mit Kindern können viele Fragen a
 uftreten. Eltern erleben im Familienalltag Momente der Unsicherheit und So
 rge. Keine Mutter und kein Vater ist perfekt – und Sie müssen es auch n
 icht sein\, um Ihre Kinder auf dem Weg in ein eigenständiges Leben zu beg
 leiten. In dem Elternkurs können Sie sich mit anderen Eltern austauschen\
 , offen über Erziehung und Familie reden und neue Ideen bekommen\, für i
 ndividuelle Lösungen in Ihrer Lebenslage.\n\nDie Termine finden im Zeitra
 um vom 22. April bis 10. Juni 2025 immer dienstags von 18:00 bis 20:00 Uhr
  statt. Die Kursgebühr beträgt 70€ pro Person\, für Paare 120€. Ref
 erentin ist Kira Scholz.\n\nBei Interesse\, Anmeldung oder Fragen richten 
 Sie sich an Frau Maria Jurado vom Kinderschutzbund Gießen\, Tel.: 0641 - 
 49 55 030 oder info@kinderschutzbund-giessen.de
ATTACH;FMTTYPE=image/jpeg:https://laubach-online.de/wp-content/uploads/202
 5/04/Elternkurs.jpg
LOCATION:Alter Bahnhof\, Bahnhofstraße 33\, 35321 Laubach\, Deutschland
GEO:50.541713;8.984776
X-APPLE-STRUCTURED-LOCATION;VALUE=URI;X-ADDRESS=Bahnhofstraße 33\, 35321 L
 aubach\, Deutschland;X-APPLE-RADIUS=100;X-TITLE=Alter Bahnhof:geo:50.54171
 3,8.984776
END:VEVENT
END:VCALENDAR