BEGIN:VCALENDAR
VERSION:2.0
PRODID:-//wp-events-plugin.com//7.2.1//EN
TZID:Europe/Berlin
X-WR-TIMEZONE:Europe/Berlin
BEGIN:VEVENT
UID:1466@laubach-online.de
DTSTART:20260313T200000Z
DTEND:20260313T213000Z
DTSTAMP:20260113T094246Z
URL:https://laubach-online.de/events/emily-rudolf-liest-fuer-das-leseland-
 giessen/
SUMMARY:"Emily Rudolf" liest für das LeseLand Gießen
DESCRIPTION:Wie viel Geheimnisse bleiben dir noch\, wenn jemand Zugang zu d
 em privatesten aller Orte hat – deinem zu Hause?\nDie perfekte Idylle. \
 nDie perfekte Falle.\nCecilia arbeitet als Housesitterin und hangelt sich 
 von Auftrag zu Auftrag. Nach dem Tod ihrer Mutter hat sie den Boden unter 
 den Füßen verloren\, kann nicht einmal mehr ein WG-Zimmer bezahlen.\nNun
  wird sie an der Villa der einflussreichen Familie Waldner abgesetzt\, ein
 sam gelegen auf einer winzigen Ostseeinsel. Das perfekte Idylle – die pe
 rfekte Falle. Denn Cecilia ist nicht zufällig hier: Eine machtvolle Anzie
 hung verbindet sie mit Johannes Waldner\, dem Sohn des verstorbenen Besitz
 ers.\nWährend Cecilia sich noch allein im Haus wähnt\, machen sich vier 
 Menschen auf den Weg zur Insel. Mit dunklen Geheimnissen und eigener Agend
 a.\nAber würden sie dafür auch töten?\nKarten für die Lesung bekommen 
 Sie im Kultur- und Tourismusbüro\, Bahnhofstraße 1\, 35321 Laubach
ATTACH;FMTTYPE=image/jpeg:https://laubach-online.de/wp-content/uploads/202
 6/01/Rudolf-pdf.jpg
CATEGORIES:Lesung
LOCATION:Rathaussaal\, Friedrichstraße 11\, Laubach\, 35321\, Deutschland
GEO:50.540895;8.991633
X-APPLE-STRUCTURED-LOCATION;VALUE=URI;X-ADDRESS=Friedrichstraße 11\, Lauba
 ch\, 35321\, Deutschland;X-APPLE-RADIUS=100;X-TITLE=Rathaussaal:geo:50.540
 895,8.991633
END:VEVENT
END:VCALENDAR