BEGIN:VCALENDAR
VERSION:2.0
PRODID:-//wp-events-plugin.com//7.2.1//EN
TZID:Europe/Berlin
X-WR-TIMEZONE:Europe/Berlin
BEGIN:VEVENT
UID:987@laubach-online.de
DTSTART:20240602T150000Z
DTEND:20240602T170000Z
DTSTAMP:20240502T132249Z
URL:https://laubach-online.de/events/eroeffnung-laubacher-schlossparkkonze
 rte-harmonie-muenster-choere-des-chattia-saengerbundes/
SUMMARY:Eröffnung Laubacher Schlossparkkonzerte - Harmonie Münster &amp\;
  Chöre des Chattia Sängerbundes
DESCRIPTION:Vor der romantischen Kulisse des historischen Schlossparks im L
 uftkurort Laubach einen vergnüglichen Sonntagnachmittag bei Musik\, dufte
 ndem\nKaffee und hausgemachtem Kuchen genießen – dies wollen seit Jahre
 n immer mehr Besucher erleben.\nDie von der Gemeinnützigen Laubacher Kult
 ur und Bäder GmbH organisierten Konzerte werden seit Jahren von der Spark
 asse Laubach-Hungen und deren Stiftung unterstützt.
ATTACH;FMTTYPE=image/jpeg:https://laubach-online.de/wp-content/uploads/202
 4/04/Foto-Titelseite-4.jpg
CATEGORIES:Konzerte
LOCATION:Schlossparkbühne am Kiosk\, Andree Allee\, Laubach\, Deutschland\
 , 35321\, Deutschland
GEO:50.550407;8.988929
X-APPLE-STRUCTURED-LOCATION;VALUE=URI;X-ADDRESS=Andree Allee\, Laubach\, De
 utschland\, 35321\, Deutschland;X-APPLE-RADIUS=100;X-TITLE=Schlossparkbüh
 ne am Kiosk:geo:50.550407,8.988929
END:VEVENT
END:VCALENDAR