BEGIN:VCALENDAR
VERSION:2.0
PRODID:-//wp-events-plugin.com//7.2.1//EN
TZID:Europe/Berlin
X-WR-TIMEZONE:Europe/Berlin
BEGIN:VEVENT
UID:1106@laubach-online.de
DTSTART:20250125T151500Z
DTEND:20250125T184500Z
DTSTAMP:20250115T151534Z
URL:https://laubach-online.de/events/erste-kinder-faschingsparty-in-gonter
 skirchen/
SUMMARY:Erste Kinder-Faschingsparty in Gonterskirchen
DESCRIPTION:Erste Kinder-Faschingsparty in Gonterskirchen\n\nIn Zusammenarb
 eit mit dem Jugendclub hat sich der SV 1958 Gonterskirchen e.V. etwas Neue
 s einfallen lassen und schon bald ist es so weit: am 25. Januar 2025 um 15
 :11 Uhr steigt im Dorfgemeinschaftshaus die erste Faschingsparty für Kind
 er\, das Pendant zur großen Faschingsparty am Abend. Im feierlich dekorie
 rten Saal wird nach dem Motto WinterWonderland am Nachmittag und Aprés-Sk
 i am Abend gefeiert\, dass die Wände wackeln. Bei guter Musik und leckere
 n (alkoholfreien) Cocktails können die Kids tanzen\, spielen\, toben und 
 zwischendurch die Auftritte verschiedener Kindertanzgruppen bestaunen.\n\n
 Natürlich sind unsere "Zappolinas" am Start und wir freuen uns\, außerde
 m Gruppen aus Einartshausen und Laubach begrüßen zu dürfen.\n\nUm 19 Uh
 r ist für die kleinen Gäste Feierabend und wir machen Platz für die gro
 ße Faschingsparty des Jugendclubs. Der SV Gonterskirchen freut sich auf v
 iele kleine und große Besucher\, die die Veranstaltung zu einer ordentlic
 hen Party machen. Der Eintritt am Nachmittag ist frei.\n\nUm 20:11 Uhr öf
 fnet dann der Jugendclub Gonterskirchen die Pforten zur großen Aprés-Ski
 -Faschingsparty. Wie schon im letzten Jahr nutzen wieder einige Showtanzgr
 uppen die Gelegenheit\, ihre neuen Tänze zu präsentieren. Mit dabei sind
  die Gruppen aus Münster\, Wetterfeld\, Laubach und Ulfa. Mit der passend
 en Musik sorgt das Team von Malinho Music für Hütten-Feeling und Partyst
 immung.\n\nDer Eintritt beträgt 5 €.
ATTACH;FMTTYPE=image/jpeg:https://laubach-online.de/wp-content/uploads/202
 5/01/faschinggokikids-1.jpg
CATEGORIES:Märkte &amp; Feste,Sportveranstaltungen
LOCATION:Dorfgemeinschaftshaus Gonterskirchen\, Mittelgasse\, 35321 Laubach
 \, Deutschland
GEO:50.515545;9.023603
X-APPLE-STRUCTURED-LOCATION;VALUE=URI;X-ADDRESS=Mittelgasse\, 35321 Laubach
 \, Deutschland;X-APPLE-RADIUS=100;X-TITLE=Dorfgemeinschaftshaus Gonterskir
 chen:geo:50.515545,9.023603
END:VEVENT
END:VCALENDAR