BEGIN:VCALENDAR
VERSION:2.0
PRODID:-//wp-events-plugin.com//7.2.1//EN
TZID:Europe/Berlin
X-WR-TIMEZONE:Europe/Berlin
BEGIN:VEVENT
UID:1321@laubach-online.de
DTSTART:20250419T110000Z
DTEND:20250419T123000Z
DTSTAMP:20250318T130333Z
URL:https://laubach-online.de/events/essbare-wild-und-heilkraeuter-unserer
 -landschaft-vergessene-potentiale-zum-nulltarif-3/
SUMMARY:Essbare Wild- und Heilkräuter unserer Landschaft — vergessene Po
 tentiale zum Nulltarif
DESCRIPTION:Die Exkursion befasst sich mit essbaren Wildpflanzen unserer La
 ndschaft\, welche früher Teil der Ernährung in der Bevölkerung waren. E
 ine echte Abwechslung auf dem Speiseplan.\n\nTicket: 12\,-€\; Jugendlich
 e 6\,-€\; Kinder bis 12 Jahre frei sind erhältlich im Tourismusbüro La
 ubach 06405-921321
ATTACH;FMTTYPE=image/jpeg:https://laubach-online.de/wp-content/uploads/202
 5/03/Nolte-_1.jpg
CATEGORIES:Führungen
LOCATION:Schlossparkbühne am Kiosk\, Andree Allee\, Laubach\, Deutschland\
 , 35321\, Deutschland
GEO:50.550407;8.988929
X-APPLE-STRUCTURED-LOCATION;VALUE=URI;X-ADDRESS=Andree Allee\, Laubach\, De
 utschland\, 35321\, Deutschland;X-APPLE-RADIUS=100;X-TITLE=Schlossparkbüh
 ne am Kiosk:geo:50.550407,8.988929
END:VEVENT
END:VCALENDAR