BEGIN:VCALENDAR
VERSION:2.0
PRODID:-//wp-events-plugin.com//7.2.1//EN
TZID:Europe/Berlin
X-WR-TIMEZONE:Europe/Berlin
BEGIN:VEVENT
UID:985@laubach-online.de
DTSTART:20240503T160000Z
DTEND:20240503T180000Z
DTSTAMP:20240416T133659Z
URL:https://laubach-online.de/events/essbare-wild-und-heilkraeuter-unserer
 -landschaft-vergessene-potentiale-zum-nulltarif/
SUMMARY:Essbare Wild- und Heilkräuter unserer Landschaft — vergessene Po
 tentiale zum Nulltarif
DESCRIPTION:Essbare Wild- und Heilkräuter unserer Landschaft — vergessen
 e Potentiale zum Nulltarif\nDie Veranstaltung befasst sich mit essbaren Wi
 ldpflanzen unserer Landschaft\, welche früher Teil der Ernährung in der 
 Bevölkerung waren und heute zum Nulltarif ihren Beitrag zu Gesundheit und
  Wohlbefinden leisten können. Eine echte Abwechslung auf dem Speiseplan.\
 nDie Teilnahmegebühr beträgt 12 Euro pro Person\; Jugendliche 6 €\, Ki
 nder bis 12 Jahre frei. Weitere Termine sind am Samstag\, 1. Juni um 10 Uh
 r sowie am Samstag\, 21. September um 11 Uhr. Informationen und Anmeldung 
 im Kultur- und Tourismusbüro Laubach unter 06405-921 321 oder tourist-inf
 o@laubach-online.de.
ATTACH;FMTTYPE=image/jpeg:https://laubach-online.de/wp-content/uploads/202
 1/06/PMExkursionLaubachsFloraEinstUndHeute2020.jpg
CATEGORIES:Führungen
LOCATION:Schlossparkbühne am Kiosk\, Andree Allee\, Laubach\, Deutschland\
 , 35321\, Deutschland
GEO:50.550407;8.988929
X-APPLE-STRUCTURED-LOCATION;VALUE=URI;X-ADDRESS=Andree Allee\, Laubach\, De
 utschland\, 35321\, Deutschland;X-APPLE-RADIUS=100;X-TITLE=Schlossparkbüh
 ne am Kiosk:geo:50.550407,8.988929
END:VEVENT
END:VCALENDAR