BEGIN:VCALENDAR
VERSION:2.0
PRODID:-//wp-events-plugin.com//7.2.1//EN
TZID:Europe/Berlin
X-WR-TIMEZONE:Europe/Berlin
BEGIN:VEVENT
UID:1020@laubach-online.de
DTSTART:20240527T190000Z
DTEND:20240527T220000Z
DTSTAMP:20240521T145844Z
URL:https://laubach-online.de/events/europaeische-einigung-ohne-europaeisc
 he-identitaet-ist-das-moeglich-vortragsveranstaltung-im-laubacher-rathaus/
SUMMARY:Europäische Einigung ohne europäische Identität –  ist das mö
 glich?  Vortragsveranstaltung im Laubacher Rathaus
DESCRIPTION:Land auf Land ab rückt die Wahl zum Europäischen Parlament am
  9. Juni 2024 immer stärker in den Fokus.\nIn allen größeren Städten w
 erben politische Parteien um die Gunst der Wählerschaft.\nBemerkenswert i
 st aber\, dass sich gerade in den kleineren Städtchen im Ostteil des Land
 kreises Gießen eine ganze Reihe von Initiativen gebildet haben\,\num auf 
 die Bedeutung der bevorstehenden Wahl aufmerksam zu machen.\nUnermüdlich 
 werben sie für die Teilnahme an der Europawahl\, zumal die 16- und 17jäh
 rigen zum ersten Mal aktiv an der Wahl teilnehmen dürfen.\nHungen\, Grün
 berg\, Laubach und Lich sind Orte\, die sich in den letzten Wochen für De
 mokratie\, Freiheit und Respekt besonders eingesetzt haben\nNach dem Europ
 atag in Laubach steht nun die nächste interessante Veranstaltung auf der 
 Tagesordnung. \nIn einem Vortrag „Europäische Einigung ohne europäisch
 e Identität“ wird der Gießener Sozialwissenschaftler Prof. Dr. Wolfgan
 g Sander darlegen\, was die Europäer verbindet. \nLange hatte die Europä
 ische Union dieser Frage kaum Aufmerksamkeit geschenkt. Aber die Spannunge
 n zwischen Ost und West innerhalb der EU und das Problem der künftigen Or
 dnung Europas nach einem Ende des Ukrainekriegs erfordern tragfähige Antw
 orten. \nDer Eintritt zu dieser Veranstaltung ist frei\, eine Anmeldung is
 t nicht erforderlich. Der Vortrag beginnt am 27.05.2024 um 19.00 Uhr im Ra
 thaussaal der Stadt Laubach. Umrahmt wird die Veranstaltung mit Plakaten v
 on Schülerinnen und Schüler des Laubach Kollegs\, die sich im Rahmen des
  Europatages intensiv mit europäischen Fragestellungen beschäftigt haben
 .\nZu Beginn werden Landrätin Anita Schneider und Bürgermeister Matthias
  Meyer ein Grußwort sprechen.\nNach dem Vortrag von Prof. Dr. Wolfgang Sa
 nder\, Professor (im Ruhestand) für Didaktik der Gesellschaftswissenschaf
 ten der Justus-Liebig-Universität Gießen\, haben die Gäste Gelegenheit 
 zu einer Fragerunde. Auch können Interessierte bei einem Getränk und Sna
 cks im kleineren Gesprächsrunden die Themen des Vortrags noch einmal aufg
 reifen. \n \n 
ATTACH;FMTTYPE=image/jpeg:https://laubach-online.de/wp-content/uploads/202
 4/05/Europafahne.jpg
CATEGORIES:Lesung
END:VEVENT
END:VCALENDAR