BEGIN:VCALENDAR
VERSION:2.0
PRODID:-//wp-events-plugin.com//7.2.1//EN
TZID:Europe/Berlin
X-WR-TIMEZONE:Europe/Berlin
BEGIN:VEVENT
UID:1363@laubach-online.de
DTSTART:20250607T103000Z
DTEND:20250607T153000Z
DTSTAMP:20250602T143612Z
URL:https://laubach-online.de/events/fahrrad-demo/
SUMMARY:Fahrrad-Demo
DESCRIPTION:
ATTACH;FMTTYPE=image/jpeg:https://laubach-online.de/wp-content/uploads/202
 5/06/Critical-Mass-07.06.25-1.jpg
END:VEVENT
END:VCALENDAR