BEGIN:VCALENDAR
VERSION:2.0
PRODID:-//wp-events-plugin.com//7.2.1//EN
TZID:Europe/Berlin
X-WR-TIMEZONE:Europe/Berlin
BEGIN:VEVENT
UID:476@laubach-online.de
DTSTART:20240505T180000Z
DTEND:20240505T203000Z
DTSTAMP:20231114T094056Z
URL:https://laubach-online.de/events/fahrt-mit-dem-stadttheaterbus-zu-der-
 oper-die-perlenfischer-von-georges-bizet/
SUMMARY:Fahrt mit dem Stadttheaterbus zu der Oper "Die Perlenfischer" von G
 eorges Bizet
DESCRIPTION:DIE PERLENFISCHER\nOper von Georges Bizet | in französischer S
 prache mit deutschen Übertiteln\nNadir und Zurga verbindet ein Schwur: Ei
 nst haben sie sich in dieselbe Frau verliebt. Mit Rücksicht auf ihre Freu
 ndschaft beschlossen sie\, dieser Liebe zu entsagen. Als sie der unbekannt
 en Priesterin Leila begegnen\, die sich allein dem Gebet zum Segen der Per
 lenfischer widmen soll\, erkennt Nadir in ihr die einstige Geliebte. Beide
  nähern sich erneut an und lösen damit eine Erschütterung der eingeschw
 orenen Gemeinschaft der Perlenfischer aus. Georges Bizet entführt uns in 
 seiner zehn Jahre vor „Carmen“ entstandenen Oper in ein fiktives Ceylo
 n voll ausdrucksstarker Arien\, Duette und faszinierender Orchesterfarben.
  Karten erhalten Sie im Kultur- und Tourismusbüro (Tel. 06405-921 372)\, 
 Bahnhofstraße 1 zu 41 € (2 PG) und zu 45 € (1 PG). Abfahrt um 16.35 U
 hr am Parkplatz bei der Sparkasse Laubach-Hungen.
ATTACH;FMTTYPE=image/jpeg:https://laubach-online.de/wp-content/uploads/202
 3/11/Theaterbus.jpg
CATEGORIES:Konzerte
LOCATION:Sparkassen Parkplatz\, August Krieger Straße 19\, Laubach\, 35321
 \, Deutschland
GEO:50.541442;8.986713
X-APPLE-STRUCTURED-LOCATION;VALUE=URI;X-ADDRESS=August Krieger Straße 19\,
  Laubach\, 35321\, Deutschland;X-APPLE-RADIUS=100;X-TITLE=Sparkassen Parkp
 latz:geo:50.541442,8.986713
END:VEVENT
END:VCALENDAR