BEGIN:VCALENDAR
VERSION:2.0
PRODID:-//wp-events-plugin.com//7.2.1//EN
TZID:Europe/Berlin
X-WR-TIMEZONE:Europe/Berlin
BEGIN:VEVENT
UID:477@laubach-online.de
DTSTART:20240523T193000Z
DTEND:20240523T220000Z
DTSTAMP:20231114T094159Z
URL:https://laubach-online.de/events/fahrt-mit-dem-stadttheaterbus-zu-der-
 oper-eugen-onegin-von-pjotr-tschaikowski/
SUMMARY:Fahrt mit dem Stadttheaterbus zu der Oper "Eugen Onegin" von Pjotr 
 Tschaikowski
DESCRIPTION:EUGEN ONEGIN\nOper von Pjotr Tschaikowski | in russischer Sprac
 he mit deutschen Übertiteln\nAls sich Tatjana Larina und Eugen Onegin zum
  ersten Mal in der Provinz begegnen\, verliebt sich die junge Frau sofort 
 in den unbekannten Großstädter. Doch dieser kann mit ihrer Liebe nichts 
 anfangen. Jahre später sehen sich beide wieder und Eugen entdeckt seine G
 efühle zu Tatjana. Doch es ist zu spät: Sie ist verheiratet und will ihr
 en eigenen Weg ohne ihn gehen. Mit seinen lyrischen Szenen wollte Pjotr Ts
 chaikowski ein „intimes Drama“ erschaffen\, das auf Konflikten beruht\
 , die er selbst erfahren oder gesehen hatte. Bis heute scheinen die schmer
 zlichen Erfahrungen der handelnden Figuren in „Eugen Onegin“ zeit- und
  ortlos zu sein. Dafür erfand Tschaikowski eine zutiefst emotionale Musik
 sprache\, die die jungen Protagonist*innen und ihre Sehnsüchte charakteri
 siert. Karten erhalten Sie im Kultur- und Tourismusbüro (Tel. 06405-921- 
 372)\, Bahnhofstraße 1 zu 41 € (2 PG) und zu 45 € (1 PG). Abfahrt: 18
 :10 Uhr am Parkplatz der Sparkasse Laubach-Hungen.
ATTACH;FMTTYPE=image/jpeg:https://laubach-online.de/wp-content/uploads/202
 3/11/Theaterbus.jpg
CATEGORIES:Konzerte
LOCATION:Sparkassen Parkplatz\, August Krieger Straße 19\, Laubach\, 35321
 \, Deutschland
GEO:50.541442;8.986713
X-APPLE-STRUCTURED-LOCATION;VALUE=URI;X-ADDRESS=August Krieger Straße 19\,
  Laubach\, 35321\, Deutschland;X-APPLE-RADIUS=100;X-TITLE=Sparkassen Parkp
 latz:geo:50.541442,8.986713
END:VEVENT
END:VCALENDAR